BEGIN:VCALENDAR
VERSION:2.0
PRODID:-//Sustainable Living in the Heatons - ECPv6.15.17.1//NONSGML v1.0//EN
CALSCALE:GREGORIAN
METHOD:PUBLISH
X-ORIGINAL-URL:https://slheatons.org
X-WR-CALDESC:Events for Sustainable Living in the Heatons
REFRESH-INTERVAL;VALUE=DURATION:PT1H
X-Robots-Tag:noindex
X-PUBLISHED-TTL:PT1H
BEGIN:VTIMEZONE
TZID:UTC
BEGIN:STANDARD
TZOFFSETFROM:+0000
TZOFFSETTO:+0000
TZNAME:UTC
DTSTART:20230101T000000
END:STANDARD
END:VTIMEZONE
BEGIN:VEVENT
DTSTART;TZID=UTC:20240303T103000
DTEND;TZID=UTC:20240303T170000
DTSTAMP:20260423T171532
CREATED:20240211T174150Z
LAST-MODIFIED:20240211T174150Z
UID:10000933-1709461800-1709485200@slheatons.org
SUMMARY:International Women’s Day Cycle Ride to the Pankhurst Statue
DESCRIPTION:Details TBC
URL:https://slheatons.org/event/international-womens-day-cycle-ride-to-the-pankhurst-statue/
LOCATION:Station South\, 975-977 Stockport Rd\, M19 3NP
CATEGORIES:Cycling,Low Carbon Heatons
ATTACH;FMTTYPE=image/jpeg:https://slheatons.org/wp-content/uploads/2023/03/P1270755crco-e1680195690586.jpg
END:VEVENT
BEGIN:VEVENT
DTSTART;TZID=UTC:20240322T074500
DTEND;TZID=UTC:20240322T090000
DTSTAMP:20260423T171532
CREATED:20240321T132142Z
LAST-MODIFIED:20240321T132222Z
UID:10001030-1711093500-1711098000@slheatons.org
SUMMARY:Bike Friday
DESCRIPTION:Join members of the SLH team who help to lead this great event from Manchester Friends of the Earth. \nBike Friday is exactly what it says on the tin: A bike ride on the last Friday of every month. We set off from Heaton Chapel train station at 7.45am and lead on a route heading into Manchester City Centre. \nThe ride is on quiet routes and are suitable for everyone — from the regular commuter\, to the first timer wanting to try a new way of getting into work.
URL:https://slheatons.org/event/bike-friday-2/
CATEGORIES:Cycling
ATTACH;FMTTYPE=image/jpeg:https://slheatons.org/wp-content/uploads/2023/03/P1270755crco-e1680195690586.jpg
END:VEVENT
BEGIN:VEVENT
DTSTART;TZID=UTC:20240329T074500
DTEND;TZID=UTC:20240329T090000
DTSTAMP:20260423T171532
CREATED:20230330T160033Z
LAST-MODIFIED:20251220T112517Z
UID:10001321-1711698300-1711702800@slheatons.org
SUMMARY:Bike Friday
DESCRIPTION:Join members of the SLH team who help to lead this great event from Manchester Friends of the Earth. \nBike Friday is exactly what it says on the tin: A bike ride on the last Friday of every month. We set off from Heaton Chapel train station at 7.45am and lead on a route heading into Manchester City Centre. \nThe ride is on quiet routes and are suitable for everyone — from the regular commuter\, to the first timer wanting to try a new way of getting into work.
URL:https://slheatons.org/event/bike-friday/2024-03-29/
CATEGORIES:Cycling
ATTACH;FMTTYPE=image/jpeg:https://slheatons.org/wp-content/uploads/2023/03/P1270755crco-e1680195690586.jpg
END:VEVENT
END:VCALENDAR