BEGIN:VCALENDAR
VERSION:2.0
PRODID:-//Sustainable Living in the Heatons - ECPv6.15.17.1//NONSGML v1.0//EN
CALSCALE:GREGORIAN
METHOD:PUBLISH
X-ORIGINAL-URL:https://slheatons.org
X-WR-CALDESC:Events for Sustainable Living in the Heatons
REFRESH-INTERVAL;VALUE=DURATION:PT1H
X-Robots-Tag:noindex
X-PUBLISHED-TTL:PT1H
BEGIN:VTIMEZONE
TZID:UTC
BEGIN:STANDARD
TZOFFSETFROM:+0000
TZOFFSETTO:+0000
TZNAME:UTC
DTSTART:20240101T000000
END:STANDARD
END:VTIMEZONE
BEGIN:VEVENT
DTSTART;TZID=UTC:20250829T074500
DTEND;TZID=UTC:20250829T090000
DTSTAMP:20260421T232739
CREATED:20230330T160033Z
LAST-MODIFIED:20251220T112517Z
UID:10000987-1756453500-1756458000@slheatons.org
SUMMARY:Bike Friday
DESCRIPTION:Join members of the SLH team who help to lead this great event from Manchester Friends of the Earth. \nBike Friday is exactly what it says on the tin: A bike ride on the last Friday of every month. We set off from Heaton Chapel train station at 7.45am and lead on a route heading into Manchester City Centre. \nThe ride is on quiet routes and are suitable for everyone — from the regular commuter\, to the first timer wanting to try a new way of getting into work.
URL:https://slheatons.org/event/bike-friday/2025-08-29/
CATEGORIES:Cycling
ATTACH;FMTTYPE=image/jpeg:https://slheatons.org/wp-content/uploads/2023/03/P1270755crco-e1680195690586.jpg
END:VEVENT
BEGIN:VEVENT
DTSTART;TZID=UTC:20250830T100000
DTEND;TZID=UTC:20250830T150000
DTSTAMP:20260421T232739
CREATED:20250401T193453Z
LAST-MODIFIED:20250401T193453Z
UID:10001182-1756548000-1756566000@slheatons.org
SUMMARY:A Ride out to Godley Turntable along the Trans Pennine Trail
DESCRIPTION:This is a mostly off-road route along the Trans Pennine Trail to Godley Turntable near Hyde. Return could be along the same route\, or along the Peak Forest Canal and NCN55. It is organised by Sustainable Living in the Heatons. \nVisit the site of a railway turntable! The Godley railway turntable was used to switch freight locomotives from electric to diesel on the Sheffield to Liverpool branch line from the 1930s to the 1960s\, when the line was closed. It subsequently became overgrown until a team of Sustrans volunteers recently restored it. Hopefully some of the restoration team will be there to meet us on the day. \nOur route drops down to the Trans Pennine Trail by the River Mersey\, before going through Stockport Town Centre to pick up the Trail once more by the River Tame. We then head up through Reddish Vale Park to the visitor centre\, then climb up through the park to Haughton Dale. We then ride along the wooded banks of the River Tame for a couple of miles\, before picking up the old ‘Godley Apethorn’ branch line\, now a tarmaced cycle path. The turntable is at the end of this path a couple of miles further down. We return via the same route\, or alternatively via Peak Forest Canal if riders prefer. \nThis event is designed for families. You can book your place here. \nThe Route: is perfect for riders of all skill levels and is mostly on gravel or tarmac cycle paths. There are a few main roads to cross\, and there are 2 short steep sections where you may find it easier to get off and push. The gravel tracks can be rough in parts and we recommend at least 28mm tyres. Electric bikes and trailers are welcome. \nThe Scenery: The countryside on the TPT at this point is very pretty\, mostly wooded trials running alongside the river. \nBring: Please bring a roadworthy bike\, a drink and a picnic lunch. There will be an opportunity for refreshments at Reddish Vale visitor centre at 4 miles. \nWeather: Please check the weather forecast and dress accordingly. We ride rain or shine! \n 
URL:https://slheatons.org/event/a-ride-out-to-godley-turntable-along-the-trans-pennine-trail/
LOCATION:Thornfield Park\, Thornfield Road\, SK4 3JT
CATEGORIES:Cycling,Meeting
ATTACH;FMTTYPE=image/jpeg:https://slheatons.org/wp-content/uploads/2023/04/Local-Cycling-Information-1-scaled.jpg
END:VEVENT
END:VCALENDAR