BEGIN:VCALENDAR
VERSION:2.0
PRODID:-//Sustainable Living in the Heatons - ECPv6.15.17.1//NONSGML v1.0//EN
CALSCALE:GREGORIAN
METHOD:PUBLISH
X-ORIGINAL-URL:https://slheatons.org
X-WR-CALDESC:Events for Sustainable Living in the Heatons
REFRESH-INTERVAL;VALUE=DURATION:PT1H
X-Robots-Tag:noindex
X-PUBLISHED-TTL:PT1H
BEGIN:VTIMEZONE
TZID:UTC
BEGIN:STANDARD
TZOFFSETFROM:+0000
TZOFFSETTO:+0000
TZNAME:UTC
DTSTART:20260101T000000
END:STANDARD
END:VTIMEZONE
BEGIN:VEVENT
DTSTART;TZID=UTC:20270326T074500
DTEND;TZID=UTC:20270326T090000
DTSTAMP:20260422T013827
CREATED:20230330T160033Z
LAST-MODIFIED:20251220T112517Z
UID:10001006-1806047100-1806051600@slheatons.org
SUMMARY:Bike Friday
DESCRIPTION:Join members of the SLH team who help to lead this great event from Manchester Friends of the Earth. \nBike Friday is exactly what it says on the tin: A bike ride on the last Friday of every month. We set off from Heaton Chapel train station at 7.45am and lead on a route heading into Manchester City Centre. \nThe ride is on quiet routes and are suitable for everyone — from the regular commuter\, to the first timer wanting to try a new way of getting into work.
URL:https://slheatons.org/event/bike-friday/2027-03-26/
CATEGORIES:Cycling
ATTACH;FMTTYPE=image/jpeg:https://slheatons.org/wp-content/uploads/2023/03/P1270755crco-e1680195690586.jpg
END:VEVENT
BEGIN:VEVENT
DTSTART;TZID=UTC:20270430T074500
DTEND;TZID=UTC:20270430T090000
DTSTAMP:20260422T013827
CREATED:20230330T160033Z
LAST-MODIFIED:20251220T112517Z
UID:10001007-1809071100-1809075600@slheatons.org
SUMMARY:Bike Friday
DESCRIPTION:Join members of the SLH team who help to lead this great event from Manchester Friends of the Earth. \nBike Friday is exactly what it says on the tin: A bike ride on the last Friday of every month. We set off from Heaton Chapel train station at 7.45am and lead on a route heading into Manchester City Centre. \nThe ride is on quiet routes and are suitable for everyone — from the regular commuter\, to the first timer wanting to try a new way of getting into work.
URL:https://slheatons.org/event/bike-friday/2027-04-30/
CATEGORIES:Cycling
ATTACH;FMTTYPE=image/jpeg:https://slheatons.org/wp-content/uploads/2023/03/P1270755crco-e1680195690586.jpg
END:VEVENT
BEGIN:VEVENT
DTSTART;TZID=UTC:20270528T074500
DTEND;TZID=UTC:20270528T090000
DTSTAMP:20260422T013827
CREATED:20230330T160033Z
LAST-MODIFIED:20251220T112517Z
UID:10001008-1811490300-1811494800@slheatons.org
SUMMARY:Bike Friday
DESCRIPTION:Join members of the SLH team who help to lead this great event from Manchester Friends of the Earth. \nBike Friday is exactly what it says on the tin: A bike ride on the last Friday of every month. We set off from Heaton Chapel train station at 7.45am and lead on a route heading into Manchester City Centre. \nThe ride is on quiet routes and are suitable for everyone — from the regular commuter\, to the first timer wanting to try a new way of getting into work.
URL:https://slheatons.org/event/bike-friday/2027-05-28/
CATEGORIES:Cycling
ATTACH;FMTTYPE=image/jpeg:https://slheatons.org/wp-content/uploads/2023/03/P1270755crco-e1680195690586.jpg
END:VEVENT
BEGIN:VEVENT
DTSTART;TZID=UTC:20270625T074500
DTEND;TZID=UTC:20270625T090000
DTSTAMP:20260422T013827
CREATED:20230330T160033Z
LAST-MODIFIED:20251220T112517Z
UID:10001009-1813909500-1813914000@slheatons.org
SUMMARY:Bike Friday
DESCRIPTION:Join members of the SLH team who help to lead this great event from Manchester Friends of the Earth. \nBike Friday is exactly what it says on the tin: A bike ride on the last Friday of every month. We set off from Heaton Chapel train station at 7.45am and lead on a route heading into Manchester City Centre. \nThe ride is on quiet routes and are suitable for everyone — from the regular commuter\, to the first timer wanting to try a new way of getting into work.
URL:https://slheatons.org/event/bike-friday/2027-06-25/
CATEGORIES:Cycling
ATTACH;FMTTYPE=image/jpeg:https://slheatons.org/wp-content/uploads/2023/03/P1270755crco-e1680195690586.jpg
END:VEVENT
BEGIN:VEVENT
DTSTART;TZID=UTC:20270730T074500
DTEND;TZID=UTC:20270730T090000
DTSTAMP:20260422T013827
CREATED:20230330T160033Z
LAST-MODIFIED:20251220T112517Z
UID:10001010-1816933500-1816938000@slheatons.org
SUMMARY:Bike Friday
DESCRIPTION:Join members of the SLH team who help to lead this great event from Manchester Friends of the Earth. \nBike Friday is exactly what it says on the tin: A bike ride on the last Friday of every month. We set off from Heaton Chapel train station at 7.45am and lead on a route heading into Manchester City Centre. \nThe ride is on quiet routes and are suitable for everyone — from the regular commuter\, to the first timer wanting to try a new way of getting into work.
URL:https://slheatons.org/event/bike-friday/2027-07-30/
CATEGORIES:Cycling
ATTACH;FMTTYPE=image/jpeg:https://slheatons.org/wp-content/uploads/2023/03/P1270755crco-e1680195690586.jpg
END:VEVENT
BEGIN:VEVENT
DTSTART;TZID=UTC:20270827T074500
DTEND;TZID=UTC:20270827T090000
DTSTAMP:20260422T013827
CREATED:20230330T160033Z
LAST-MODIFIED:20251220T112517Z
UID:10001011-1819352700-1819357200@slheatons.org
SUMMARY:Bike Friday
DESCRIPTION:Join members of the SLH team who help to lead this great event from Manchester Friends of the Earth. \nBike Friday is exactly what it says on the tin: A bike ride on the last Friday of every month. We set off from Heaton Chapel train station at 7.45am and lead on a route heading into Manchester City Centre. \nThe ride is on quiet routes and are suitable for everyone — from the regular commuter\, to the first timer wanting to try a new way of getting into work.
URL:https://slheatons.org/event/bike-friday/2027-08-27/
CATEGORIES:Cycling
ATTACH;FMTTYPE=image/jpeg:https://slheatons.org/wp-content/uploads/2023/03/P1270755crco-e1680195690586.jpg
END:VEVENT
BEGIN:VEVENT
DTSTART;TZID=UTC:20270924T074500
DTEND;TZID=UTC:20270924T090000
DTSTAMP:20260422T013827
CREATED:20230330T160033Z
LAST-MODIFIED:20251220T112517Z
UID:10001012-1821771900-1821776400@slheatons.org
SUMMARY:Bike Friday
DESCRIPTION:Join members of the SLH team who help to lead this great event from Manchester Friends of the Earth. \nBike Friday is exactly what it says on the tin: A bike ride on the last Friday of every month. We set off from Heaton Chapel train station at 7.45am and lead on a route heading into Manchester City Centre. \nThe ride is on quiet routes and are suitable for everyone — from the regular commuter\, to the first timer wanting to try a new way of getting into work.
URL:https://slheatons.org/event/bike-friday/2027-09-24/
CATEGORIES:Cycling
ATTACH;FMTTYPE=image/jpeg:https://slheatons.org/wp-content/uploads/2023/03/P1270755crco-e1680195690586.jpg
END:VEVENT
BEGIN:VEVENT
DTSTART;TZID=UTC:20271029T074500
DTEND;TZID=UTC:20271029T090000
DTSTAMP:20260422T013827
CREATED:20230330T160033Z
LAST-MODIFIED:20251220T112517Z
UID:10001013-1824795900-1824800400@slheatons.org
SUMMARY:Bike Friday
DESCRIPTION:Join members of the SLH team who help to lead this great event from Manchester Friends of the Earth. \nBike Friday is exactly what it says on the tin: A bike ride on the last Friday of every month. We set off from Heaton Chapel train station at 7.45am and lead on a route heading into Manchester City Centre. \nThe ride is on quiet routes and are suitable for everyone — from the regular commuter\, to the first timer wanting to try a new way of getting into work.
URL:https://slheatons.org/event/bike-friday/2027-10-29/
CATEGORIES:Cycling
ATTACH;FMTTYPE=image/jpeg:https://slheatons.org/wp-content/uploads/2023/03/P1270755crco-e1680195690586.jpg
END:VEVENT
BEGIN:VEVENT
DTSTART;TZID=UTC:20271126T074500
DTEND;TZID=UTC:20271126T090000
DTSTAMP:20260422T013827
CREATED:20230330T160033Z
LAST-MODIFIED:20251220T112517Z
UID:10001014-1827215100-1827219600@slheatons.org
SUMMARY:Bike Friday
DESCRIPTION:Join members of the SLH team who help to lead this great event from Manchester Friends of the Earth. \nBike Friday is exactly what it says on the tin: A bike ride on the last Friday of every month. We set off from Heaton Chapel train station at 7.45am and lead on a route heading into Manchester City Centre. \nThe ride is on quiet routes and are suitable for everyone — from the regular commuter\, to the first timer wanting to try a new way of getting into work.
URL:https://slheatons.org/event/bike-friday/2027-11-26/
CATEGORIES:Cycling
ATTACH;FMTTYPE=image/jpeg:https://slheatons.org/wp-content/uploads/2023/03/P1270755crco-e1680195690586.jpg
END:VEVENT
BEGIN:VEVENT
DTSTART;TZID=UTC:20271231T074500
DTEND;TZID=UTC:20271231T090000
DTSTAMP:20260422T013827
CREATED:20230330T160033Z
LAST-MODIFIED:20251220T112517Z
UID:10001015-1830239100-1830243600@slheatons.org
SUMMARY:Bike Friday
DESCRIPTION:Join members of the SLH team who help to lead this great event from Manchester Friends of the Earth. \nBike Friday is exactly what it says on the tin: A bike ride on the last Friday of every month. We set off from Heaton Chapel train station at 7.45am and lead on a route heading into Manchester City Centre. \nThe ride is on quiet routes and are suitable for everyone — from the regular commuter\, to the first timer wanting to try a new way of getting into work.
URL:https://slheatons.org/event/bike-friday/2027-12-31/
CATEGORIES:Cycling
ATTACH;FMTTYPE=image/jpeg:https://slheatons.org/wp-content/uploads/2023/03/P1270755crco-e1680195690586.jpg
END:VEVENT
BEGIN:VEVENT
DTSTART;TZID=UTC:20280128T074500
DTEND;TZID=UTC:20280128T090000
DTSTAMP:20260422T013827
CREATED:20230330T160033Z
LAST-MODIFIED:20251220T112517Z
UID:10001016-1832658300-1832662800@slheatons.org
SUMMARY:Bike Friday
DESCRIPTION:Join members of the SLH team who help to lead this great event from Manchester Friends of the Earth. \nBike Friday is exactly what it says on the tin: A bike ride on the last Friday of every month. We set off from Heaton Chapel train station at 7.45am and lead on a route heading into Manchester City Centre. \nThe ride is on quiet routes and are suitable for everyone — from the regular commuter\, to the first timer wanting to try a new way of getting into work.
URL:https://slheatons.org/event/bike-friday/2028-01-28/
CATEGORIES:Cycling
ATTACH;FMTTYPE=image/jpeg:https://slheatons.org/wp-content/uploads/2023/03/P1270755crco-e1680195690586.jpg
END:VEVENT
BEGIN:VEVENT
DTSTART;TZID=UTC:20280225T074500
DTEND;TZID=UTC:20280225T090000
DTSTAMP:20260422T013827
CREATED:20230330T160033Z
LAST-MODIFIED:20251220T112517Z
UID:10001017-1835077500-1835082000@slheatons.org
SUMMARY:Bike Friday
DESCRIPTION:Join members of the SLH team who help to lead this great event from Manchester Friends of the Earth. \nBike Friday is exactly what it says on the tin: A bike ride on the last Friday of every month. We set off from Heaton Chapel train station at 7.45am and lead on a route heading into Manchester City Centre. \nThe ride is on quiet routes and are suitable for everyone — from the regular commuter\, to the first timer wanting to try a new way of getting into work.
URL:https://slheatons.org/event/bike-friday/2028-02-25/
CATEGORIES:Cycling
ATTACH;FMTTYPE=image/jpeg:https://slheatons.org/wp-content/uploads/2023/03/P1270755crco-e1680195690586.jpg
END:VEVENT
BEGIN:VEVENT
DTSTART;TZID=UTC:20280331T074500
DTEND;TZID=UTC:20280331T090000
DTSTAMP:20260422T013827
CREATED:20230330T160033Z
LAST-MODIFIED:20251220T112517Z
UID:10001018-1838101500-1838106000@slheatons.org
SUMMARY:Bike Friday
DESCRIPTION:Join members of the SLH team who help to lead this great event from Manchester Friends of the Earth. \nBike Friday is exactly what it says on the tin: A bike ride on the last Friday of every month. We set off from Heaton Chapel train station at 7.45am and lead on a route heading into Manchester City Centre. \nThe ride is on quiet routes and are suitable for everyone — from the regular commuter\, to the first timer wanting to try a new way of getting into work.
URL:https://slheatons.org/event/bike-friday/2028-03-31/
CATEGORIES:Cycling
ATTACH;FMTTYPE=image/jpeg:https://slheatons.org/wp-content/uploads/2023/03/P1270755crco-e1680195690586.jpg
END:VEVENT
BEGIN:VEVENT
DTSTART;TZID=UTC:20280428T074500
DTEND;TZID=UTC:20280428T090000
DTSTAMP:20260422T013827
CREATED:20230330T160033Z
LAST-MODIFIED:20251220T112517Z
UID:10001019-1840520700-1840525200@slheatons.org
SUMMARY:Bike Friday
DESCRIPTION:Join members of the SLH team who help to lead this great event from Manchester Friends of the Earth. \nBike Friday is exactly what it says on the tin: A bike ride on the last Friday of every month. We set off from Heaton Chapel train station at 7.45am and lead on a route heading into Manchester City Centre. \nThe ride is on quiet routes and are suitable for everyone — from the regular commuter\, to the first timer wanting to try a new way of getting into work.
URL:https://slheatons.org/event/bike-friday/2028-04-28/
CATEGORIES:Cycling
ATTACH;FMTTYPE=image/jpeg:https://slheatons.org/wp-content/uploads/2023/03/P1270755crco-e1680195690586.jpg
END:VEVENT
BEGIN:VEVENT
DTSTART;TZID=UTC:20280526T074500
DTEND;TZID=UTC:20280526T090000
DTSTAMP:20260422T013827
CREATED:20230330T160033Z
LAST-MODIFIED:20251220T112517Z
UID:10001020-1842939900-1842944400@slheatons.org
SUMMARY:Bike Friday
DESCRIPTION:Join members of the SLH team who help to lead this great event from Manchester Friends of the Earth. \nBike Friday is exactly what it says on the tin: A bike ride on the last Friday of every month. We set off from Heaton Chapel train station at 7.45am and lead on a route heading into Manchester City Centre. \nThe ride is on quiet routes and are suitable for everyone — from the regular commuter\, to the first timer wanting to try a new way of getting into work.
URL:https://slheatons.org/event/bike-friday/2028-05-26/
CATEGORIES:Cycling
ATTACH;FMTTYPE=image/jpeg:https://slheatons.org/wp-content/uploads/2023/03/P1270755crco-e1680195690586.jpg
END:VEVENT
BEGIN:VEVENT
DTSTART;TZID=UTC:20280630T074500
DTEND;TZID=UTC:20280630T090000
DTSTAMP:20260422T013827
CREATED:20230330T160033Z
LAST-MODIFIED:20251220T112517Z
UID:10001021-1845963900-1845968400@slheatons.org
SUMMARY:Bike Friday
DESCRIPTION:Join members of the SLH team who help to lead this great event from Manchester Friends of the Earth. \nBike Friday is exactly what it says on the tin: A bike ride on the last Friday of every month. We set off from Heaton Chapel train station at 7.45am and lead on a route heading into Manchester City Centre. \nThe ride is on quiet routes and are suitable for everyone — from the regular commuter\, to the first timer wanting to try a new way of getting into work.
URL:https://slheatons.org/event/bike-friday/2028-06-30/
CATEGORIES:Cycling
ATTACH;FMTTYPE=image/jpeg:https://slheatons.org/wp-content/uploads/2023/03/P1270755crco-e1680195690586.jpg
END:VEVENT
BEGIN:VEVENT
DTSTART;TZID=UTC:20280728T074500
DTEND;TZID=UTC:20280728T090000
DTSTAMP:20260422T013827
CREATED:20230330T160033Z
LAST-MODIFIED:20251220T112517Z
UID:10001022-1848383100-1848387600@slheatons.org
SUMMARY:Bike Friday
DESCRIPTION:Join members of the SLH team who help to lead this great event from Manchester Friends of the Earth. \nBike Friday is exactly what it says on the tin: A bike ride on the last Friday of every month. We set off from Heaton Chapel train station at 7.45am and lead on a route heading into Manchester City Centre. \nThe ride is on quiet routes and are suitable for everyone — from the regular commuter\, to the first timer wanting to try a new way of getting into work.
URL:https://slheatons.org/event/bike-friday/2028-07-28/
CATEGORIES:Cycling
ATTACH;FMTTYPE=image/jpeg:https://slheatons.org/wp-content/uploads/2023/03/P1270755crco-e1680195690586.jpg
END:VEVENT
BEGIN:VEVENT
DTSTART;TZID=UTC:20280825T074500
DTEND;TZID=UTC:20280825T090000
DTSTAMP:20260422T013827
CREATED:20230330T160033Z
LAST-MODIFIED:20251220T112517Z
UID:10001023-1850802300-1850806800@slheatons.org
SUMMARY:Bike Friday
DESCRIPTION:Join members of the SLH team who help to lead this great event from Manchester Friends of the Earth. \nBike Friday is exactly what it says on the tin: A bike ride on the last Friday of every month. We set off from Heaton Chapel train station at 7.45am and lead on a route heading into Manchester City Centre. \nThe ride is on quiet routes and are suitable for everyone — from the regular commuter\, to the first timer wanting to try a new way of getting into work.
URL:https://slheatons.org/event/bike-friday/2028-08-25/
CATEGORIES:Cycling
ATTACH;FMTTYPE=image/jpeg:https://slheatons.org/wp-content/uploads/2023/03/P1270755crco-e1680195690586.jpg
END:VEVENT
BEGIN:VEVENT
DTSTART;TZID=UTC:20280929T074500
DTEND;TZID=UTC:20280929T090000
DTSTAMP:20260422T013827
CREATED:20230330T160033Z
LAST-MODIFIED:20251220T112517Z
UID:10001024-1853826300-1853830800@slheatons.org
SUMMARY:Bike Friday
DESCRIPTION:Join members of the SLH team who help to lead this great event from Manchester Friends of the Earth. \nBike Friday is exactly what it says on the tin: A bike ride on the last Friday of every month. We set off from Heaton Chapel train station at 7.45am and lead on a route heading into Manchester City Centre. \nThe ride is on quiet routes and are suitable for everyone — from the regular commuter\, to the first timer wanting to try a new way of getting into work.
URL:https://slheatons.org/event/bike-friday/2028-09-29/
CATEGORIES:Cycling
ATTACH;FMTTYPE=image/jpeg:https://slheatons.org/wp-content/uploads/2023/03/P1270755crco-e1680195690586.jpg
END:VEVENT
BEGIN:VEVENT
DTSTART;TZID=UTC:20281027T074500
DTEND;TZID=UTC:20281027T090000
DTSTAMP:20260422T013827
CREATED:20230330T160033Z
LAST-MODIFIED:20251220T112517Z
UID:10001025-1856245500-1856250000@slheatons.org
SUMMARY:Bike Friday
DESCRIPTION:Join members of the SLH team who help to lead this great event from Manchester Friends of the Earth. \nBike Friday is exactly what it says on the tin: A bike ride on the last Friday of every month. We set off from Heaton Chapel train station at 7.45am and lead on a route heading into Manchester City Centre. \nThe ride is on quiet routes and are suitable for everyone — from the regular commuter\, to the first timer wanting to try a new way of getting into work.
URL:https://slheatons.org/event/bike-friday/2028-10-27/
CATEGORIES:Cycling
ATTACH;FMTTYPE=image/jpeg:https://slheatons.org/wp-content/uploads/2023/03/P1270755crco-e1680195690586.jpg
END:VEVENT
BEGIN:VEVENT
DTSTART;TZID=UTC:20281124T074500
DTEND;TZID=UTC:20281124T090000
DTSTAMP:20260422T013827
CREATED:20230330T160033Z
LAST-MODIFIED:20251220T112517Z
UID:10001026-1858664700-1858669200@slheatons.org
SUMMARY:Bike Friday
DESCRIPTION:Join members of the SLH team who help to lead this great event from Manchester Friends of the Earth. \nBike Friday is exactly what it says on the tin: A bike ride on the last Friday of every month. We set off from Heaton Chapel train station at 7.45am and lead on a route heading into Manchester City Centre. \nThe ride is on quiet routes and are suitable for everyone — from the regular commuter\, to the first timer wanting to try a new way of getting into work.
URL:https://slheatons.org/event/bike-friday/2028-11-24/
CATEGORIES:Cycling
ATTACH;FMTTYPE=image/jpeg:https://slheatons.org/wp-content/uploads/2023/03/P1270755crco-e1680195690586.jpg
END:VEVENT
BEGIN:VEVENT
DTSTART;TZID=UTC:20281229T074500
DTEND;TZID=UTC:20281229T090000
DTSTAMP:20260422T013827
CREATED:20230330T160033Z
LAST-MODIFIED:20251220T112517Z
UID:10001027-1861688700-1861693200@slheatons.org
SUMMARY:Bike Friday
DESCRIPTION:Join members of the SLH team who help to lead this great event from Manchester Friends of the Earth. \nBike Friday is exactly what it says on the tin: A bike ride on the last Friday of every month. We set off from Heaton Chapel train station at 7.45am and lead on a route heading into Manchester City Centre. \nThe ride is on quiet routes and are suitable for everyone — from the regular commuter\, to the first timer wanting to try a new way of getting into work.
URL:https://slheatons.org/event/bike-friday/2028-12-29/
CATEGORIES:Cycling
ATTACH;FMTTYPE=image/jpeg:https://slheatons.org/wp-content/uploads/2023/03/P1270755crco-e1680195690586.jpg
END:VEVENT
BEGIN:VEVENT
DTSTART;TZID=UTC:20290126T074500
DTEND;TZID=UTC:20290126T090000
DTSTAMP:20260422T013827
CREATED:20230330T160033Z
LAST-MODIFIED:20251220T112517Z
UID:10001028-1864107900-1864112400@slheatons.org
SUMMARY:Bike Friday
DESCRIPTION:Join members of the SLH team who help to lead this great event from Manchester Friends of the Earth. \nBike Friday is exactly what it says on the tin: A bike ride on the last Friday of every month. We set off from Heaton Chapel train station at 7.45am and lead on a route heading into Manchester City Centre. \nThe ride is on quiet routes and are suitable for everyone — from the regular commuter\, to the first timer wanting to try a new way of getting into work.
URL:https://slheatons.org/event/bike-friday/2029-01-26/
CATEGORIES:Cycling
ATTACH;FMTTYPE=image/jpeg:https://slheatons.org/wp-content/uploads/2023/03/P1270755crco-e1680195690586.jpg
END:VEVENT
BEGIN:VEVENT
DTSTART;TZID=UTC:20290223T074500
DTEND;TZID=UTC:20290223T090000
DTSTAMP:20260422T013827
CREATED:20230330T160033Z
LAST-MODIFIED:20251220T112517Z
UID:10001029-1866527100-1866531600@slheatons.org
SUMMARY:Bike Friday
DESCRIPTION:Join members of the SLH team who help to lead this great event from Manchester Friends of the Earth. \nBike Friday is exactly what it says on the tin: A bike ride on the last Friday of every month. We set off from Heaton Chapel train station at 7.45am and lead on a route heading into Manchester City Centre. \nThe ride is on quiet routes and are suitable for everyone — from the regular commuter\, to the first timer wanting to try a new way of getting into work.
URL:https://slheatons.org/event/bike-friday/2029-02-23/
CATEGORIES:Cycling
ATTACH;FMTTYPE=image/jpeg:https://slheatons.org/wp-content/uploads/2023/03/P1270755crco-e1680195690586.jpg
END:VEVENT
BEGIN:VEVENT
DTSTART;TZID=UTC:20290330T074500
DTEND;TZID=UTC:20290330T090000
DTSTAMP:20260422T013827
CREATED:20230330T160033Z
LAST-MODIFIED:20251220T112517Z
UID:10001322-1869551100-1869555600@slheatons.org
SUMMARY:Bike Friday
DESCRIPTION:Join members of the SLH team who help to lead this great event from Manchester Friends of the Earth. \nBike Friday is exactly what it says on the tin: A bike ride on the last Friday of every month. We set off from Heaton Chapel train station at 7.45am and lead on a route heading into Manchester City Centre. \nThe ride is on quiet routes and are suitable for everyone — from the regular commuter\, to the first timer wanting to try a new way of getting into work.
URL:https://slheatons.org/event/bike-friday/2029-03-30/
CATEGORIES:Cycling
ATTACH;FMTTYPE=image/jpeg:https://slheatons.org/wp-content/uploads/2023/03/P1270755crco-e1680195690586.jpg
END:VEVENT
BEGIN:VEVENT
DTSTART;TZID=UTC:20290427T074500
DTEND;TZID=UTC:20290427T090000
DTSTAMP:20260422T013827
CREATED:20230330T160033Z
LAST-MODIFIED:20251220T112517Z
UID:10001323-1871970300-1871974800@slheatons.org
SUMMARY:Bike Friday
DESCRIPTION:Join members of the SLH team who help to lead this great event from Manchester Friends of the Earth. \nBike Friday is exactly what it says on the tin: A bike ride on the last Friday of every month. We set off from Heaton Chapel train station at 7.45am and lead on a route heading into Manchester City Centre. \nThe ride is on quiet routes and are suitable for everyone — from the regular commuter\, to the first timer wanting to try a new way of getting into work.
URL:https://slheatons.org/event/bike-friday/2029-04-27/
CATEGORIES:Cycling
ATTACH;FMTTYPE=image/jpeg:https://slheatons.org/wp-content/uploads/2023/03/P1270755crco-e1680195690586.jpg
END:VEVENT
BEGIN:VEVENT
DTSTART;TZID=UTC:20290525T074500
DTEND;TZID=UTC:20290525T090000
DTSTAMP:20260422T013827
CREATED:20230330T160033Z
LAST-MODIFIED:20251220T112517Z
UID:10001324-1874389500-1874394000@slheatons.org
SUMMARY:Bike Friday
DESCRIPTION:Join members of the SLH team who help to lead this great event from Manchester Friends of the Earth. \nBike Friday is exactly what it says on the tin: A bike ride on the last Friday of every month. We set off from Heaton Chapel train station at 7.45am and lead on a route heading into Manchester City Centre. \nThe ride is on quiet routes and are suitable for everyone — from the regular commuter\, to the first timer wanting to try a new way of getting into work.
URL:https://slheatons.org/event/bike-friday/2029-05-25/
CATEGORIES:Cycling
ATTACH;FMTTYPE=image/jpeg:https://slheatons.org/wp-content/uploads/2023/03/P1270755crco-e1680195690586.jpg
END:VEVENT
BEGIN:VEVENT
DTSTART;TZID=UTC:20290629T074500
DTEND;TZID=UTC:20290629T090000
DTSTAMP:20260422T013827
CREATED:20230330T160033Z
LAST-MODIFIED:20251220T112517Z
UID:10001325-1877413500-1877418000@slheatons.org
SUMMARY:Bike Friday
DESCRIPTION:Join members of the SLH team who help to lead this great event from Manchester Friends of the Earth. \nBike Friday is exactly what it says on the tin: A bike ride on the last Friday of every month. We set off from Heaton Chapel train station at 7.45am and lead on a route heading into Manchester City Centre. \nThe ride is on quiet routes and are suitable for everyone — from the regular commuter\, to the first timer wanting to try a new way of getting into work.
URL:https://slheatons.org/event/bike-friday/2029-06-29/
CATEGORIES:Cycling
ATTACH;FMTTYPE=image/jpeg:https://slheatons.org/wp-content/uploads/2023/03/P1270755crco-e1680195690586.jpg
END:VEVENT
BEGIN:VEVENT
DTSTART;TZID=UTC:20290727T074500
DTEND;TZID=UTC:20290727T090000
DTSTAMP:20260422T013827
CREATED:20230330T160033Z
LAST-MODIFIED:20251220T112517Z
UID:10001326-1879832700-1879837200@slheatons.org
SUMMARY:Bike Friday
DESCRIPTION:Join members of the SLH team who help to lead this great event from Manchester Friends of the Earth. \nBike Friday is exactly what it says on the tin: A bike ride on the last Friday of every month. We set off from Heaton Chapel train station at 7.45am and lead on a route heading into Manchester City Centre. \nThe ride is on quiet routes and are suitable for everyone — from the regular commuter\, to the first timer wanting to try a new way of getting into work.
URL:https://slheatons.org/event/bike-friday/2029-07-27/
CATEGORIES:Cycling
ATTACH;FMTTYPE=image/jpeg:https://slheatons.org/wp-content/uploads/2023/03/P1270755crco-e1680195690586.jpg
END:VEVENT
BEGIN:VEVENT
DTSTART;TZID=UTC:20290831T074500
DTEND;TZID=UTC:20290831T090000
DTSTAMP:20260422T013827
CREATED:20230330T160033Z
LAST-MODIFIED:20251220T112517Z
UID:10001327-1882856700-1882861200@slheatons.org
SUMMARY:Bike Friday
DESCRIPTION:Join members of the SLH team who help to lead this great event from Manchester Friends of the Earth. \nBike Friday is exactly what it says on the tin: A bike ride on the last Friday of every month. We set off from Heaton Chapel train station at 7.45am and lead on a route heading into Manchester City Centre. \nThe ride is on quiet routes and are suitable for everyone — from the regular commuter\, to the first timer wanting to try a new way of getting into work.
URL:https://slheatons.org/event/bike-friday/2029-08-31/
CATEGORIES:Cycling
ATTACH;FMTTYPE=image/jpeg:https://slheatons.org/wp-content/uploads/2023/03/P1270755crco-e1680195690586.jpg
END:VEVENT
END:VCALENDAR