BEGIN:VCALENDAR
VERSION:2.0
PRODID:-//Sustainable Living in the Heatons - ECPv6.15.17.1//NONSGML v1.0//EN
CALSCALE:GREGORIAN
METHOD:PUBLISH
X-ORIGINAL-URL:https://slheatons.org
X-WR-CALDESC:Events for Sustainable Living in the Heatons
REFRESH-INTERVAL;VALUE=DURATION:PT1H
X-Robots-Tag:noindex
X-PUBLISHED-TTL:PT1H
BEGIN:VTIMEZONE
TZID:UTC
BEGIN:STANDARD
TZOFFSETFROM:+0000
TZOFFSETTO:+0000
TZNAME:UTC
DTSTART:20220101T000000
END:STANDARD
END:VTIMEZONE
BEGIN:VEVENT
DTSTART;TZID=UTC:20240126T074500
DTEND;TZID=UTC:20240126T090000
DTSTAMP:20260421T194000
CREATED:20230330T160033Z
LAST-MODIFIED:20251220T112517Z
UID:10000969-1706255100-1706259600@slheatons.org
SUMMARY:Bike Friday
DESCRIPTION:Join members of the SLH team who help to lead this great event from Manchester Friends of the Earth. \nBike Friday is exactly what it says on the tin: A bike ride on the last Friday of every month. We set off from Heaton Chapel train station at 7.45am and lead on a route heading into Manchester City Centre. \nThe ride is on quiet routes and are suitable for everyone — from the regular commuter\, to the first timer wanting to try a new way of getting into work.
URL:https://slheatons.org/event/bike-friday/2024-01-26/
CATEGORIES:Cycling
ATTACH;FMTTYPE=image/jpeg:https://slheatons.org/wp-content/uploads/2023/03/P1270755crco-e1680195690586.jpg
END:VEVENT
BEGIN:VEVENT
DTSTART;TZID=UTC:20231229T074500
DTEND;TZID=UTC:20231229T090000
DTSTAMP:20260421T194000
CREATED:20230330T160033Z
LAST-MODIFIED:20251220T112517Z
UID:10000968-1703835900-1703840400@slheatons.org
SUMMARY:Bike Friday
DESCRIPTION:Join members of the SLH team who help to lead this great event from Manchester Friends of the Earth. \nBike Friday is exactly what it says on the tin: A bike ride on the last Friday of every month. We set off from Heaton Chapel train station at 7.45am and lead on a route heading into Manchester City Centre. \nThe ride is on quiet routes and are suitable for everyone — from the regular commuter\, to the first timer wanting to try a new way of getting into work.
URL:https://slheatons.org/event/bike-friday/2023-12-29/
CATEGORIES:Cycling
ATTACH;FMTTYPE=image/jpeg:https://slheatons.org/wp-content/uploads/2023/03/P1270755crco-e1680195690586.jpg
END:VEVENT
BEGIN:VEVENT
DTSTART;TZID=UTC:20231124T074500
DTEND;TZID=UTC:20231124T090000
DTSTAMP:20260421T194000
CREATED:20230330T160033Z
LAST-MODIFIED:20251220T112517Z
UID:10000967-1700811900-1700816400@slheatons.org
SUMMARY:Bike Friday
DESCRIPTION:Join members of the SLH team who help to lead this great event from Manchester Friends of the Earth. \nBike Friday is exactly what it says on the tin: A bike ride on the last Friday of every month. We set off from Heaton Chapel train station at 7.45am and lead on a route heading into Manchester City Centre. \nThe ride is on quiet routes and are suitable for everyone — from the regular commuter\, to the first timer wanting to try a new way of getting into work.
URL:https://slheatons.org/event/bike-friday/2023-11-24/
CATEGORIES:Cycling
ATTACH;FMTTYPE=image/jpeg:https://slheatons.org/wp-content/uploads/2023/03/P1270755crco-e1680195690586.jpg
END:VEVENT
BEGIN:VEVENT
DTSTART;TZID=UTC:20231027T074500
DTEND;TZID=UTC:20231027T090000
DTSTAMP:20260421T194000
CREATED:20230330T160033Z
LAST-MODIFIED:20251220T112517Z
UID:10000966-1698392700-1698397200@slheatons.org
SUMMARY:Bike Friday
DESCRIPTION:Join members of the SLH team who help to lead this great event from Manchester Friends of the Earth. \nBike Friday is exactly what it says on the tin: A bike ride on the last Friday of every month. We set off from Heaton Chapel train station at 7.45am and lead on a route heading into Manchester City Centre. \nThe ride is on quiet routes and are suitable for everyone — from the regular commuter\, to the first timer wanting to try a new way of getting into work.
URL:https://slheatons.org/event/bike-friday/2023-10-27/
CATEGORIES:Cycling
ATTACH;FMTTYPE=image/jpeg:https://slheatons.org/wp-content/uploads/2023/03/P1270755crco-e1680195690586.jpg
END:VEVENT
BEGIN:VEVENT
DTSTART;TZID=UTC:20230929T074500
DTEND;TZID=UTC:20230929T090000
DTSTAMP:20260421T194000
CREATED:20230330T160033Z
LAST-MODIFIED:20251220T112517Z
UID:10000965-1695973500-1695978000@slheatons.org
SUMMARY:Bike Friday
DESCRIPTION:Join members of the SLH team who help to lead this great event from Manchester Friends of the Earth. \nBike Friday is exactly what it says on the tin: A bike ride on the last Friday of every month. We set off from Heaton Chapel train station at 7.45am and lead on a route heading into Manchester City Centre. \nThe ride is on quiet routes and are suitable for everyone — from the regular commuter\, to the first timer wanting to try a new way of getting into work.
URL:https://slheatons.org/event/bike-friday/2023-09-29/
CATEGORIES:Cycling
ATTACH;FMTTYPE=image/jpeg:https://slheatons.org/wp-content/uploads/2023/03/P1270755crco-e1680195690586.jpg
END:VEVENT
BEGIN:VEVENT
DTSTART;TZID=UTC:20230909T080000
DTEND;TZID=UTC:20230909T170000
DTSTAMP:20260421T194000
CREATED:20230331T094029Z
LAST-MODIFIED:20230828T113600Z
UID:10000245-1694246400-1694278800@slheatons.org
SUMMARY:Bike Ride: Manchester Museum
DESCRIPTION:Saturday Sept 9th Manchester Museum\nOur route will be via the Fallowfield Loop Line\, then the Oxford Road Corridor straight to the front door of the refurbished Manchester Museum We’ll spend a couple of hours at the museum – it is a treasure trove of knowledge and discovery. Please bring a picnic plus some money for snacks / ice cream. \nMeet Moor Top pub car park on Heaton Moor Road at 10.30am\, and we’ll be back by 4pm. \nDistance 11 miles\, mostly off-road and on dedicated cycleways.
URL:https://slheatons.org/event/bike-ride-saturday-sept-9th-manchester-museum/
CATEGORIES:Cycling
ATTACH;FMTTYPE=image/jpeg:https://slheatons.org/wp-content/uploads/2023/03/Floop-Bike-Ride-e1680258455435.jpg
END:VEVENT
BEGIN:VEVENT
DTSTART;TZID=UTC:20230825T074500
DTEND;TZID=UTC:20230825T090000
DTSTAMP:20260421T194000
CREATED:20230330T160033Z
LAST-MODIFIED:20251220T112517Z
UID:10000964-1692949500-1692954000@slheatons.org
SUMMARY:Bike Friday
DESCRIPTION:Join members of the SLH team who help to lead this great event from Manchester Friends of the Earth. \nBike Friday is exactly what it says on the tin: A bike ride on the last Friday of every month. We set off from Heaton Chapel train station at 7.45am and lead on a route heading into Manchester City Centre. \nThe ride is on quiet routes and are suitable for everyone — from the regular commuter\, to the first timer wanting to try a new way of getting into work.
URL:https://slheatons.org/event/bike-friday/2023-08-25/
CATEGORIES:Cycling
ATTACH;FMTTYPE=image/jpeg:https://slheatons.org/wp-content/uploads/2023/03/P1270755crco-e1680195690586.jpg
END:VEVENT
BEGIN:VEVENT
DTSTART;TZID=UTC:20230728T074500
DTEND;TZID=UTC:20230728T090000
DTSTAMP:20260421T194000
CREATED:20230330T160033Z
LAST-MODIFIED:20251220T112517Z
UID:10000963-1690530300-1690534800@slheatons.org
SUMMARY:Bike Friday
DESCRIPTION:Join members of the SLH team who help to lead this great event from Manchester Friends of the Earth. \nBike Friday is exactly what it says on the tin: A bike ride on the last Friday of every month. We set off from Heaton Chapel train station at 7.45am and lead on a route heading into Manchester City Centre. \nThe ride is on quiet routes and are suitable for everyone — from the regular commuter\, to the first timer wanting to try a new way of getting into work.
URL:https://slheatons.org/event/bike-friday/2023-07-28/
CATEGORIES:Cycling
ATTACH;FMTTYPE=image/jpeg:https://slheatons.org/wp-content/uploads/2023/03/P1270755crco-e1680195690586.jpg
END:VEVENT
BEGIN:VEVENT
DTSTART;TZID=UTC:20230715T100000
DTEND;TZID=UTC:20230715T150000
DTSTAMP:20260421T194000
CREATED:20230331T093140Z
LAST-MODIFIED:20230616T072025Z
UID:10000244-1689415200-1689433200@slheatons.org
SUMMARY:Bike Ride: Mirrlees Fields
DESCRIPTION:A ride through the Stockport suburbs\, to picnic in the green Mirrlees Fields by Woodsmoor\, once partly occupied by the diesel engine factory.\nMeet at 10am Moor Top pub car park\, return around 3pm.\nDistance 12 miles.
URL:https://slheatons.org/event/bike-ride-saturday-july-15th-mirrlees-fields/
CATEGORIES:Cycling
ATTACH;FMTTYPE=image/jpeg:https://slheatons.org/wp-content/uploads/2023/03/Floop-Bike-Ride-e1680258455435.jpg
END:VEVENT
BEGIN:VEVENT
DTSTART;TZID=UTC:20230702T103000
DTEND;TZID=UTC:20230702T123000
DTSTAMP:20260421T194000
CREATED:20230331T094220Z
LAST-MODIFIED:20230627T073443Z
UID:10000246-1688293800-1688301000@slheatons.org
SUMMARY:SLH Bike Ride for Heatons SummerFest: Heatons Orchards
DESCRIPTION:This ride has been arranged to fit in with the Heatons Big Summer Weekend. This is a particularly quiet ride for people who want to get confident on local routes and quiet roads\, and involves some parts of The Heatons Link. \nThe route will be through some of the orchards in the Heatons\, and other green spaces on the way\, taking in the River Mersey\, The Bowl\, Heaton Mersey Common\, The Meadows\, Nelstrop Road\, a bit of the Fallowfield Loop and Heaton Moor Park. It is mostly off-road or on quiet roads. Those who choose not to do the whole ride can leave the group after about an hour at the original meeting place. \nMeet at 10.30 am in the car park at the back of The Good Life and The Heaton pub on 474 Didsbury Road Heaton Mersey SK4 3BS.  We will be ending at the Farmers’ Market on Shaw Road for 1pm\, where we hope you can find something tasty for lunch!\nDistance about 8 miles\, on quiet roads or off road\, mostly flat.
URL:https://slheatons.org/event/bike-ride-sunday-july-2nd-heatons-orchards/
CATEGORIES:Cycling
ATTACH;FMTTYPE=image/jpeg:https://slheatons.org/wp-content/uploads/2023/03/Floop-Bike-Ride-e1680258455435.jpg
END:VEVENT
BEGIN:VEVENT
DTSTART;TZID=UTC:20230630T074500
DTEND;TZID=UTC:20230630T090000
DTSTAMP:20260421T194000
CREATED:20230330T160033Z
LAST-MODIFIED:20251220T112517Z
UID:10000962-1688111100-1688115600@slheatons.org
SUMMARY:Bike Friday
DESCRIPTION:Join members of the SLH team who help to lead this great event from Manchester Friends of the Earth. \nBike Friday is exactly what it says on the tin: A bike ride on the last Friday of every month. We set off from Heaton Chapel train station at 7.45am and lead on a route heading into Manchester City Centre. \nThe ride is on quiet routes and are suitable for everyone — from the regular commuter\, to the first timer wanting to try a new way of getting into work.
URL:https://slheatons.org/event/bike-friday/2023-06-30/
CATEGORIES:Cycling
ATTACH;FMTTYPE=image/jpeg:https://slheatons.org/wp-content/uploads/2023/03/P1270755crco-e1680195690586.jpg
END:VEVENT
BEGIN:VEVENT
DTSTART;TZID=UTC:20230625T100000
DTEND;TZID=UTC:20230625T160000
DTSTAMP:20260421T194000
CREATED:20230331T092932Z
LAST-MODIFIED:20230331T094253Z
UID:10000243-1687687200-1687708800@slheatons.org
SUMMARY:Bike Ride: Sunday June 25th Mayfield Park\, Manchester.
DESCRIPTION:This will be a circular route to the newly created Mayfield Park near Piccadilly station in Manchester. Outwards\, we’ll follow the route of a disused railway\, a disused canal and an active canal to the heart of Manchester\, returning along the Oxford Rd cycleway. We are allowing 90 minutes for lunch and play (and note – there is no age limit on the park activities and yes\, some adults will be going down the slide over the river). Bring a picnic and some money for drinks\, snacks and ice cream from the coffee shop.\nMeet at 10am at the Moor Top pub car park\, returning around 4pm.\nDistance around 15 miles. Large sections off-road and on cycleways\, but using some quieter roads in the city.
URL:https://slheatons.org/event/bike-ride-sunday-june-25th-mayfield-park-manchester/
CATEGORIES:Cycling
ATTACH;FMTTYPE=image/jpeg:https://slheatons.org/wp-content/uploads/2023/03/Floop-Bike-Ride-e1680258455435.jpg
END:VEVENT
BEGIN:VEVENT
DTSTART;TZID=UTC:20230526T074500
DTEND;TZID=UTC:20230526T090000
DTSTAMP:20260421T194000
CREATED:20230330T160033Z
LAST-MODIFIED:20251220T112517Z
UID:10000961-1685087100-1685091600@slheatons.org
SUMMARY:Bike Friday
DESCRIPTION:Join members of the SLH team who help to lead this great event from Manchester Friends of the Earth. \nBike Friday is exactly what it says on the tin: A bike ride on the last Friday of every month. We set off from Heaton Chapel train station at 7.45am and lead on a route heading into Manchester City Centre. \nThe ride is on quiet routes and are suitable for everyone — from the regular commuter\, to the first timer wanting to try a new way of getting into work.
URL:https://slheatons.org/event/bike-friday/2023-05-26/
CATEGORIES:Cycling
ATTACH;FMTTYPE=image/jpeg:https://slheatons.org/wp-content/uploads/2023/03/P1270755crco-e1680195690586.jpg
END:VEVENT
BEGIN:VEVENT
DTSTART;TZID=UTC:20230428T074500
DTEND;TZID=UTC:20230428T090000
DTSTAMP:20260421T194000
CREATED:20230330T160033Z
LAST-MODIFIED:20251220T112517Z
UID:10000960-1682667900-1682672400@slheatons.org
SUMMARY:Bike Friday
DESCRIPTION:Join members of the SLH team who help to lead this great event from Manchester Friends of the Earth. \nBike Friday is exactly what it says on the tin: A bike ride on the last Friday of every month. We set off from Heaton Chapel train station at 7.45am and lead on a route heading into Manchester City Centre. \nThe ride is on quiet routes and are suitable for everyone — from the regular commuter\, to the first timer wanting to try a new way of getting into work.
URL:https://slheatons.org/event/bike-friday/2023-04-28/
CATEGORIES:Cycling
ATTACH;FMTTYPE=image/jpeg:https://slheatons.org/wp-content/uploads/2023/03/P1270755crco-e1680195690586.jpg
END:VEVENT
BEGIN:VEVENT
DTSTART;TZID=UTC:20230415T130000
DTEND;TZID=UTC:20230415T160000
DTSTAMP:20260421T194000
CREATED:20230331T092653Z
LAST-MODIFIED:20230331T094253Z
UID:10000242-1681563600-1681574400@slheatons.org
SUMMARY:Bike Ride: Saturday April 15th. FLOOP cycle ride\, the David Beetham orchards trail.
DESCRIPTION:On this trip\, along the pleasant Fallowfield Loop cycle greenway\, we’ll visit each of the four orchards that David Beetham brought about\, and that will hopefully be in bloom. As David died last year\, part of the reason for the route is in his memory. With it being so popular when SLH called in last year\, we’ll also re-visit the Station South cafe. To help us plan\, please book by April 8th.\nMeet at 1pm by the SLH orchard in Heaton Chapel\, we’ll return around 4pm.\nDistance 11 miles\, mostly flat and off-road.\nNote that another group of riders will be joining us in Levenshulme.
URL:https://slheatons.org/event/bike-ride-saturday-april-15th-floop-cycle-ride-the-david-beetham-orchards-trail/
CATEGORIES:Cycling
ATTACH;FMTTYPE=image/jpeg:https://slheatons.org/wp-content/uploads/2023/03/Floop-Bike-Ride-e1680258455435.jpg
END:VEVENT
END:VCALENDAR