BEGIN:VCALENDAR
VERSION:2.0
PRODID:-//Sustainable Living in the Heatons - ECPv6.15.17.1//NONSGML v1.0//EN
CALSCALE:GREGORIAN
METHOD:PUBLISH
X-WR-CALNAME:Sustainable Living in the Heatons
X-ORIGINAL-URL:https://slheatons.org
X-WR-CALDESC:Events for Sustainable Living in the Heatons
REFRESH-INTERVAL;VALUE=DURATION:PT1H
X-Robots-Tag:noindex
X-PUBLISHED-TTL:PT1H
BEGIN:VTIMEZONE
TZID:UTC
BEGIN:STANDARD
TZOFFSETFROM:+0000
TZOFFSETTO:+0000
TZNAME:UTC
DTSTART:20260101T000000
END:STANDARD
END:VTIMEZONE
BEGIN:VEVENT
DTSTART;TZID=UTC:20270717T100000
DTEND;TZID=UTC:20270717T120000
DTSTAMP:20260422T234556
CREATED:20230702T181806Z
LAST-MODIFIED:20251013T191716Z
UID:10000545-1815818400-1815825600@slheatons.org
SUMMARY:Heatons Repair Café
DESCRIPTION:Join volunteers from across the Heatons for our new repair café! \n\nHow does it work? \n\n\n\nRepair cafés are run by volunteers — people who have specific skills that they would like to share with the local community. These skills may include sewing or repairs to furniture/wood\, bikes\, garden tools and small electrical items. There is also a need for volunteers with “meet and greet” skills for managing the tea\, coffee and cake! Repair cafés operate once a month for a period of two hours. \n\n\n\nIs there a charge? \n\n\n\nNo\, the repairs are free\, although donations are welcome to help build the stock of tools and materials. \nDo you know anyone who might be interested in volunteering? Repairs will include household objects\, bicycles\, clothing\, mechanical devices and woodworking repairs.  Any skill you may have to repair things\, whatever it is\, we would love to hear about it. If you can help or would like to know\, more email info@slheatons.org
URL:https://slheatons.org/event/heatons-repair-cafe/2027-07-17/
LOCATION:St Paul’s\, St Paul's Church\, St Paul's Road\, Stockport\, Greater Manchester\, SK4 4RY\, United Kingdom
CATEGORIES:Low Carbon Heatons
ATTACH;FMTTYPE=image/jpeg:https://slheatons.org/wp-content/uploads/2023/10/Repair-cafe-leaflet.jpg
END:VEVENT
END:VCALENDAR