BEGIN:VCALENDAR
VERSION:2.0
PRODID:-//Sustainable Living in the Heatons - ECPv6.15.17.1//NONSGML v1.0//EN
CALSCALE:GREGORIAN
METHOD:PUBLISH
X-ORIGINAL-URL:https://slheatons.org
X-WR-CALDESC:Events for Sustainable Living in the Heatons
REFRESH-INTERVAL;VALUE=DURATION:PT1H
X-Robots-Tag:noindex
X-PUBLISHED-TTL:PT1H
BEGIN:VTIMEZONE
TZID:UTC
BEGIN:STANDARD
TZOFFSETFROM:+0000
TZOFFSETTO:+0000
TZNAME:UTC
DTSTART:20220101T000000
END:STANDARD
END:VTIMEZONE
BEGIN:VEVENT
DTSTART;TZID=UTC:20240615T100000
DTEND;TZID=UTC:20240615T120000
DTSTAMP:20260421T194133
CREATED:20230702T181806Z
LAST-MODIFIED:20251013T191716Z
UID:10000508-1718445600-1718452800@slheatons.org
SUMMARY:Heatons Repair Café
DESCRIPTION:Join volunteers from across the Heatons for our new repair café! \n\nHow does it work? \n\n\n\nRepair cafés are run by volunteers — people who have specific skills that they would like to share with the local community. These skills may include sewing or repairs to furniture/wood\, bikes\, garden tools and small electrical items. There is also a need for volunteers with “meet and greet” skills for managing the tea\, coffee and cake! Repair cafés operate once a month for a period of two hours. \n\n\n\nIs there a charge? \n\n\n\nNo\, the repairs are free\, although donations are welcome to help build the stock of tools and materials. \nDo you know anyone who might be interested in volunteering? Repairs will include household objects\, bicycles\, clothing\, mechanical devices and woodworking repairs.  Any skill you may have to repair things\, whatever it is\, we would love to hear about it. If you can help or would like to know\, more email info@slheatons.org
URL:https://slheatons.org/event/heatons-repair-cafe/2024-06-15/
LOCATION:St Paul’s\, St Paul's Church\, St Paul's Road\, Stockport\, Greater Manchester\, SK4 4RY\, United Kingdom
CATEGORIES:Low Carbon Heatons
ATTACH;FMTTYPE=image/jpeg:https://slheatons.org/wp-content/uploads/2023/10/Repair-cafe-leaflet.jpg
END:VEVENT
BEGIN:VEVENT
DTSTART;TZID=UTC:20240518T110000
DTEND;TZID=UTC:20240518T160000
DTSTAMP:20260421T194133
CREATED:20240425T185401Z
LAST-MODIFIED:20240425T185401Z
UID:10001031-1716030000-1716048000@slheatons.org
SUMMARY:Greenstock 2024
DESCRIPTION:We’ll be back in the glorious Woodbank Park\, at Woodbank Community Food Hub\, from 11am – 4pm. \nCome along for a jam-packed day filled with fun\, tasty food\, music and sunshine (fingers crossed).There will be lots of stalls and activities such as making bug-hotels\, seed planting\, laughter workshop\, learn to mend\, arabic cooking demo\, climate conversations\,bug hunts\, nature connection\, games\, quizzes and more. \nAll activities and food will be provided for free\, including pizzas and tasty cakes. \nEveryone is welcome!
URL:https://slheatons.org/event/greenstock-2024/
LOCATION:Woodbank Park\, Turncroft Lane\, Offerton\, Stockport\, SK1 4JR
CATEGORIES:Low Carbon Heatons,Meeting,Wild Heatons & Biodiversity
ATTACH;FMTTYPE=image/png:https://slheatons.org/wp-content/uploads/2024/04/Greenstock-social-media-1.png
END:VEVENT
BEGIN:VEVENT
DTSTART;TZID=UTC:20240518T100000
DTEND;TZID=UTC:20240518T120000
DTSTAMP:20260421T194133
CREATED:20230702T181806Z
LAST-MODIFIED:20251013T191716Z
UID:10000507-1716026400-1716033600@slheatons.org
SUMMARY:Heatons Repair Café
DESCRIPTION:Join volunteers from across the Heatons for our new repair café! \n\nHow does it work? \n\n\n\nRepair cafés are run by volunteers — people who have specific skills that they would like to share with the local community. These skills may include sewing or repairs to furniture/wood\, bikes\, garden tools and small electrical items. There is also a need for volunteers with “meet and greet” skills for managing the tea\, coffee and cake! Repair cafés operate once a month for a period of two hours. \n\n\n\nIs there a charge? \n\n\n\nNo\, the repairs are free\, although donations are welcome to help build the stock of tools and materials. \nDo you know anyone who might be interested in volunteering? Repairs will include household objects\, bicycles\, clothing\, mechanical devices and woodworking repairs.  Any skill you may have to repair things\, whatever it is\, we would love to hear about it. If you can help or would like to know\, more email info@slheatons.org
URL:https://slheatons.org/event/heatons-repair-cafe/2024-05-18/
LOCATION:St Paul’s\, St Paul's Church\, St Paul's Road\, Stockport\, Greater Manchester\, SK4 4RY\, United Kingdom
CATEGORIES:Low Carbon Heatons
ATTACH;FMTTYPE=image/jpeg:https://slheatons.org/wp-content/uploads/2023/10/Repair-cafe-leaflet.jpg
END:VEVENT
BEGIN:VEVENT
DTSTART;TZID=UTC:20240420T100000
DTEND;TZID=UTC:20240420T120000
DTSTAMP:20260421T194133
CREATED:20230702T181806Z
LAST-MODIFIED:20251013T191716Z
UID:10000506-1713607200-1713614400@slheatons.org
SUMMARY:Heatons Repair Café
DESCRIPTION:Join volunteers from across the Heatons for our new repair café! \n\nHow does it work? \n\n\n\nRepair cafés are run by volunteers — people who have specific skills that they would like to share with the local community. These skills may include sewing or repairs to furniture/wood\, bikes\, garden tools and small electrical items. There is also a need for volunteers with “meet and greet” skills for managing the tea\, coffee and cake! Repair cafés operate once a month for a period of two hours. \n\n\n\nIs there a charge? \n\n\n\nNo\, the repairs are free\, although donations are welcome to help build the stock of tools and materials. \nDo you know anyone who might be interested in volunteering? Repairs will include household objects\, bicycles\, clothing\, mechanical devices and woodworking repairs.  Any skill you may have to repair things\, whatever it is\, we would love to hear about it. If you can help or would like to know\, more email info@slheatons.org
URL:https://slheatons.org/event/heatons-repair-cafe/2024-04-20/
LOCATION:St Paul’s\, St Paul's Church\, St Paul's Road\, Stockport\, Greater Manchester\, SK4 4RY\, United Kingdom
CATEGORIES:Low Carbon Heatons
ATTACH;FMTTYPE=image/jpeg:https://slheatons.org/wp-content/uploads/2023/10/Repair-cafe-leaflet.jpg
END:VEVENT
BEGIN:VEVENT
DTSTART;TZID=UTC:20240413T100000
DTEND;TZID=UTC:20240413T130000
DTSTAMP:20260421T194133
CREATED:20240211T164030Z
LAST-MODIFIED:20240211T170805Z
UID:10000928-1713002400-1713013200@slheatons.org
SUMMARY:Family-Friendly Bike Ride to Station South
DESCRIPTION:Pedal your way through the beautiful green spaces of the Heatons. Stopping off at the gorgeous Station South for drinks and cake. \nGet ready to pedal your way to a day of fun\, fitness\, and family bonding! We invite you and your loved ones to join us on a Family-Friendly Bike Ride to Station South Levensulme via the picturesque Fallowfield Loopline and if weather allows stopping off to see the Secret Lake and Levenshulme Waterfall. \nThis event is designed for families\, so bring the whole crew from littlest backseat riders to great grandparents. Oh and if you are doing the Manchester Marathon on 14th April\, this is a perfect ride to keep your legs moving 😊 \nThe Route: is perfect for riders of all skill levels\, and is mostly on quiet cycle paths. \nThe Views: we will be experiencing the green beauty of Nelstrop Lane and onto the Fallowfield Loopline loop line. After coffee and a cake at Station South we will continue west along the Floop turning off to enjoy Cringle Park on our way home. Yes we will definitely have time for playing in the park. \nBring: Please bring a roadworthy bike\, a drink and money for the coffee and cake. \nWeather: Please check the weather forecast and dress accordingly. We’ll ride rain or shine! \nBook for free on eventbrite
URL:https://slheatons.org/event/family-friendly-bike-ride-to-station-south/
LOCATION:Thornfield Road Heaton Mersey SK4 3JT\, Thornfield Road\, SK4 3JT\, United Kingdom
CATEGORIES:Cycling,Low Carbon Heatons,Meeting
ATTACH;FMTTYPE=image/jpeg:https://slheatons.org/wp-content/uploads/2023/04/Local-Cycling-Routes-Banner-scaled.jpg
END:VEVENT
BEGIN:VEVENT
DTSTART;TZID=UTC:20240316T100000
DTEND;TZID=UTC:20240316T120000
DTSTAMP:20260421T194133
CREATED:20230702T181806Z
LAST-MODIFIED:20251013T191716Z
UID:10000505-1710583200-1710590400@slheatons.org
SUMMARY:Heatons Repair Café
DESCRIPTION:Join volunteers from across the Heatons for our new repair café! \n\nHow does it work? \n\n\n\nRepair cafés are run by volunteers — people who have specific skills that they would like to share with the local community. These skills may include sewing or repairs to furniture/wood\, bikes\, garden tools and small electrical items. There is also a need for volunteers with “meet and greet” skills for managing the tea\, coffee and cake! Repair cafés operate once a month for a period of two hours. \n\n\n\nIs there a charge? \n\n\n\nNo\, the repairs are free\, although donations are welcome to help build the stock of tools and materials. \nDo you know anyone who might be interested in volunteering? Repairs will include household objects\, bicycles\, clothing\, mechanical devices and woodworking repairs.  Any skill you may have to repair things\, whatever it is\, we would love to hear about it. If you can help or would like to know\, more email info@slheatons.org
URL:https://slheatons.org/event/heatons-repair-cafe/2024-03-16/
LOCATION:St Paul’s\, St Paul's Church\, St Paul's Road\, Stockport\, Greater Manchester\, SK4 4RY\, United Kingdom
CATEGORIES:Low Carbon Heatons
ATTACH;FMTTYPE=image/jpeg:https://slheatons.org/wp-content/uploads/2023/10/Repair-cafe-leaflet.jpg
END:VEVENT
BEGIN:VEVENT
DTSTART;TZID=UTC:20240303T103000
DTEND;TZID=UTC:20240303T170000
DTSTAMP:20260421T194133
CREATED:20240211T174150Z
LAST-MODIFIED:20240211T174150Z
UID:10000933-1709461800-1709485200@slheatons.org
SUMMARY:International Women’s Day Cycle Ride to the Pankhurst Statue
DESCRIPTION:Details TBC
URL:https://slheatons.org/event/international-womens-day-cycle-ride-to-the-pankhurst-statue/
LOCATION:Station South\, 975-977 Stockport Rd\, M19 3NP
CATEGORIES:Cycling,Low Carbon Heatons
ATTACH;FMTTYPE=image/jpeg:https://slheatons.org/wp-content/uploads/2023/03/P1270755crco-e1680195690586.jpg
END:VEVENT
BEGIN:VEVENT
DTSTART;TZID=UTC:20240217T100000
DTEND;TZID=UTC:20240217T120000
DTSTAMP:20260421T194133
CREATED:20230702T181806Z
LAST-MODIFIED:20251013T191716Z
UID:10000504-1708164000-1708171200@slheatons.org
SUMMARY:Heatons Repair Café
DESCRIPTION:Join volunteers from across the Heatons for our new repair café! \n\nHow does it work? \n\n\n\nRepair cafés are run by volunteers — people who have specific skills that they would like to share with the local community. These skills may include sewing or repairs to furniture/wood\, bikes\, garden tools and small electrical items. There is also a need for volunteers with “meet and greet” skills for managing the tea\, coffee and cake! Repair cafés operate once a month for a period of two hours. \n\n\n\nIs there a charge? \n\n\n\nNo\, the repairs are free\, although donations are welcome to help build the stock of tools and materials. \nDo you know anyone who might be interested in volunteering? Repairs will include household objects\, bicycles\, clothing\, mechanical devices and woodworking repairs.  Any skill you may have to repair things\, whatever it is\, we would love to hear about it. If you can help or would like to know\, more email info@slheatons.org
URL:https://slheatons.org/event/heatons-repair-cafe/2024-02-17/
LOCATION:St Paul’s\, St Paul's Church\, St Paul's Road\, Stockport\, Greater Manchester\, SK4 4RY\, United Kingdom
CATEGORIES:Low Carbon Heatons
ATTACH;FMTTYPE=image/jpeg:https://slheatons.org/wp-content/uploads/2023/10/Repair-cafe-leaflet.jpg
END:VEVENT
BEGIN:VEVENT
DTSTART;TZID=UTC:20240120T100000
DTEND;TZID=UTC:20240120T120000
DTSTAMP:20260421T194133
CREATED:20230702T181806Z
LAST-MODIFIED:20251013T191716Z
UID:10000503-1705744800-1705752000@slheatons.org
SUMMARY:Heatons Repair Café
DESCRIPTION:Join volunteers from across the Heatons for our new repair café! \n\nHow does it work? \n\n\n\nRepair cafés are run by volunteers — people who have specific skills that they would like to share with the local community. These skills may include sewing or repairs to furniture/wood\, bikes\, garden tools and small electrical items. There is also a need for volunteers with “meet and greet” skills for managing the tea\, coffee and cake! Repair cafés operate once a month for a period of two hours. \n\n\n\nIs there a charge? \n\n\n\nNo\, the repairs are free\, although donations are welcome to help build the stock of tools and materials. \nDo you know anyone who might be interested in volunteering? Repairs will include household objects\, bicycles\, clothing\, mechanical devices and woodworking repairs.  Any skill you may have to repair things\, whatever it is\, we would love to hear about it. If you can help or would like to know\, more email info@slheatons.org
URL:https://slheatons.org/event/heatons-repair-cafe/2024-01-20/
LOCATION:St Paul’s\, St Paul's Church\, St Paul's Road\, Stockport\, Greater Manchester\, SK4 4RY\, United Kingdom
CATEGORIES:Low Carbon Heatons
ATTACH;FMTTYPE=image/jpeg:https://slheatons.org/wp-content/uploads/2023/10/Repair-cafe-leaflet.jpg
END:VEVENT
BEGIN:VEVENT
DTSTART;TZID=UTC:20231216T100000
DTEND;TZID=UTC:20231216T120000
DTSTAMP:20260421T194133
CREATED:20230702T181806Z
LAST-MODIFIED:20251013T191716Z
UID:10000502-1702720800-1702728000@slheatons.org
SUMMARY:Heatons Repair Café
DESCRIPTION:Join volunteers from across the Heatons for our new repair café! \n\nHow does it work? \n\n\n\nRepair cafés are run by volunteers — people who have specific skills that they would like to share with the local community. These skills may include sewing or repairs to furniture/wood\, bikes\, garden tools and small electrical items. There is also a need for volunteers with “meet and greet” skills for managing the tea\, coffee and cake! Repair cafés operate once a month for a period of two hours. \n\n\n\nIs there a charge? \n\n\n\nNo\, the repairs are free\, although donations are welcome to help build the stock of tools and materials. \nDo you know anyone who might be interested in volunteering? Repairs will include household objects\, bicycles\, clothing\, mechanical devices and woodworking repairs.  Any skill you may have to repair things\, whatever it is\, we would love to hear about it. If you can help or would like to know\, more email info@slheatons.org
URL:https://slheatons.org/event/heatons-repair-cafe/2023-12-16/
LOCATION:St Paul’s\, St Paul's Church\, St Paul's Road\, Stockport\, Greater Manchester\, SK4 4RY\, United Kingdom
CATEGORIES:Low Carbon Heatons
ATTACH;FMTTYPE=image/jpeg:https://slheatons.org/wp-content/uploads/2023/10/Repair-cafe-leaflet.jpg
END:VEVENT
BEGIN:VEVENT
DTSTART;TZID=UTC:20231118T100000
DTEND;TZID=UTC:20231118T120000
DTSTAMP:20260421T194133
CREATED:20230702T181806Z
LAST-MODIFIED:20251013T191716Z
UID:10000501-1700301600-1700308800@slheatons.org
SUMMARY:Heatons Repair Café
DESCRIPTION:Join volunteers from across the Heatons for our new repair café! \n\nHow does it work? \n\n\n\nRepair cafés are run by volunteers — people who have specific skills that they would like to share with the local community. These skills may include sewing or repairs to furniture/wood\, bikes\, garden tools and small electrical items. There is also a need for volunteers with “meet and greet” skills for managing the tea\, coffee and cake! Repair cafés operate once a month for a period of two hours. \n\n\n\nIs there a charge? \n\n\n\nNo\, the repairs are free\, although donations are welcome to help build the stock of tools and materials. \nDo you know anyone who might be interested in volunteering? Repairs will include household objects\, bicycles\, clothing\, mechanical devices and woodworking repairs.  Any skill you may have to repair things\, whatever it is\, we would love to hear about it. If you can help or would like to know\, more email info@slheatons.org
URL:https://slheatons.org/event/heatons-repair-cafe/2023-11-18/
LOCATION:St Paul’s\, St Paul's Church\, St Paul's Road\, Stockport\, Greater Manchester\, SK4 4RY\, United Kingdom
CATEGORIES:Low Carbon Heatons
ATTACH;FMTTYPE=image/jpeg:https://slheatons.org/wp-content/uploads/2023/10/Repair-cafe-leaflet.jpg
END:VEVENT
BEGIN:VEVENT
DTSTART;TZID=UTC:20231021T100000
DTEND;TZID=UTC:20231021T120000
DTSTAMP:20260421T194133
CREATED:20230702T181806Z
LAST-MODIFIED:20251013T191716Z
UID:10000500-1697882400-1697889600@slheatons.org
SUMMARY:Heatons Repair Café
DESCRIPTION:Join volunteers from across the Heatons for our new repair café! \n\nHow does it work? \n\n\n\nRepair cafés are run by volunteers — people who have specific skills that they would like to share with the local community. These skills may include sewing or repairs to furniture/wood\, bikes\, garden tools and small electrical items. There is also a need for volunteers with “meet and greet” skills for managing the tea\, coffee and cake! Repair cafés operate once a month for a period of two hours. \n\n\n\nIs there a charge? \n\n\n\nNo\, the repairs are free\, although donations are welcome to help build the stock of tools and materials. \nDo you know anyone who might be interested in volunteering? Repairs will include household objects\, bicycles\, clothing\, mechanical devices and woodworking repairs.  Any skill you may have to repair things\, whatever it is\, we would love to hear about it. If you can help or would like to know\, more email info@slheatons.org
URL:https://slheatons.org/event/heatons-repair-cafe/2023-10-21/
LOCATION:St Paul’s\, St Paul's Church\, St Paul's Road\, Stockport\, Greater Manchester\, SK4 4RY\, United Kingdom
CATEGORIES:Low Carbon Heatons
ATTACH;FMTTYPE=image/jpeg:https://slheatons.org/wp-content/uploads/2023/10/Repair-cafe-leaflet.jpg
END:VEVENT
BEGIN:VEVENT
DTSTART;TZID=UTC:20230629T191500
DTEND;TZID=UTC:20230629T210000
DTSTAMP:20260421T194133
CREATED:20230508T133404Z
LAST-MODIFIED:20230521T064507Z
UID:10000374-1688066100-1688072400@slheatons.org
SUMMARY:Plant\, Save and Protect
DESCRIPTION:Sustainable Living in the Heatons (SLH) invite you to attend the third in our series of Low Carbon Heatons events. \nThis event will consider the interaction between individuals and their physical environment – the connection between plants\, wild life and the world around us. \nOur speakers include experts from the Cheshire Wild Life Trust \, Manchester Urban Diggers and Hive5 . We will also present a case study on a local success story. You will have the opportunity to learn more about:\n– the loss of biodiversity and the affect on climate change\,\n– how eco systems and the biodiversity they contain are natural carbon sinks \n– how conserved or restored habitats can reduce the negative effects of climate change and contribute towards reducing the carbon footprint of the local area \n– why biodiversity is so important for the carbon cycle. \nThe event is free however booking is essential.  To book your place go here.
URL:https://slheatons.org/event/plant-save-and-protect/
LOCATION:The Heatons Sports Club\, The Heatons Sports Club\, Green Lane\, Stockport\, Greater Manchester\, SK4 2NF\, United Kingdom
CATEGORIES:Low Carbon Heatons
END:VEVENT
END:VCALENDAR