BEGIN:VCALENDAR
VERSION:2.0
PRODID:-//Sustainable Living in the Heatons - ECPv6.15.17.1//NONSGML v1.0//EN
CALSCALE:GREGORIAN
METHOD:PUBLISH
X-ORIGINAL-URL:https://slheatons.org
X-WR-CALDESC:Events for Sustainable Living in the Heatons
REFRESH-INTERVAL;VALUE=DURATION:PT1H
X-Robots-Tag:noindex
X-PUBLISHED-TTL:PT1H
BEGIN:VTIMEZONE
TZID:UTC
BEGIN:STANDARD
TZOFFSETFROM:+0000
TZOFFSETTO:+0000
TZNAME:UTC
DTSTART:20230101T000000
END:STANDARD
END:VTIMEZONE
BEGIN:VEVENT
DTSTART;TZID=UTC:20240502T205000
DTEND;TZID=UTC:20240502T215000
DTSTAMP:20260425T001657
CREATED:20240312T200519Z
LAST-MODIFIED:20240312T200814Z
UID:10000948-1714683000-1714686600@slheatons.org
SUMMARY:Evening bat walk in Heaton Mersey
DESCRIPTION:Join us for a dusk walk near the river in Heaton Mersey to observe bats using detection monitors. \nThis evening bat walk will give you the chance to hear and observe the bats using our special bat monitoring equipment. The insects will be out and the bats will be hunting! \nThe event will last just over an hour\, and will take you from a meeting place in Heaton Mersey down to the river. \nThe bat walks are led by volunteers from Sustainable Living in the Heatons\, trained by ecologist Jeff Clarke\, and with funding from the Stockport Hydro Environmental Challenge Fund to purchase the bat monitors. \nCheck out our bats page for information about previous bat walks. \nBook for free on eventbrite
URL:https://slheatons.org/event/evening-bat-walk-in-heaton-mersey-8/
LOCATION:To be confirmed Heaton Mersey SK4\, To be confirmed\, SK4
CATEGORIES:Meeting,Wild Heatons & Biodiversity
ATTACH;FMTTYPE=image/jpeg:https://slheatons.org/wp-content/uploads/2023/03/Bat-644x691-1-e1680187995837.jpg
END:VEVENT
BEGIN:VEVENT
DTSTART;TZID=UTC:20240504T103000
DTEND;TZID=UTC:20240504T120000
DTSTAMP:20260425T001657
CREATED:20230330T153849Z
LAST-MODIFIED:20250902T180944Z
UID:10000016-1714818600-1714824000@slheatons.org
SUMMARY:Monthly Meeting
DESCRIPTION:The SLH monthly meetings are on the first Saturday of the month from 10.30am to 12.00 noon.  Our meetings are held at the Patio Room\, Heaton Moor United Church\, Stanley Rd SK4 4HL. The room has direct access from the car park and has a shared kitchen and toilets very close to the room. Hot drinks will be provided for everyone. \nEveryone is welcome to our meeting. Contact info@slheatons.org if you have questions. We use the time to discuss and plan our activities\, and have occasional guest speakers.  Everyone is welcome. Do come and meet us!
URL:https://slheatons.org/event/monthly-meeting/2024-05-04/
LOCATION:Patio Room\, Heaton Moor United Church\, Stanley Rd SK4 4HL\, Patio Room\, Heaton Moor United Church\, Stanley Rd\, SK4 4HL
CATEGORIES:Meeting
ATTACH;FMTTYPE=image/jpeg:https://slheatons.org/wp-content/uploads/2023/03/Monthly-Meeting.jpg
END:VEVENT
BEGIN:VEVENT
DTSTART;TZID=UTC:20240518T103000
DTEND;TZID=UTC:20240518T123000
DTSTAMP:20260425T001657
CREATED:20240106T182216Z
LAST-MODIFIED:20251202T211146Z
UID:10000872-1716028200-1716035400@slheatons.org
SUMMARY:Friends of Darley Street Task Day
DESCRIPTION:Darley Street is a beautiful community garden that can be enjoyed by all. \nOur Friends group meets on the 3rd Saturday of the month at 10:30 a.m. \nDarley Street is situated at in the heart of the Heaton Norris conservation area\, at the junction of Green Lane and Alexandra Road close to the Nursery pub.
URL:https://slheatons.org/event/friends-of-darley-street-task-day/2024-05-18/
LOCATION:Darly Street\, Heaton Norris
CATEGORIES:Meeting,Planting & Growing,Wild Heatons & Biodiversity
ATTACH;FMTTYPE=image/jpeg:https://slheatons.org/wp-content/uploads/2024/01/September-2022-full-autumn-colour.jpg
END:VEVENT
BEGIN:VEVENT
DTSTART;TZID=UTC:20240518T110000
DTEND;TZID=UTC:20240518T160000
DTSTAMP:20260425T001657
CREATED:20240425T185401Z
LAST-MODIFIED:20240425T185401Z
UID:10001031-1716030000-1716048000@slheatons.org
SUMMARY:Greenstock 2024
DESCRIPTION:We’ll be back in the glorious Woodbank Park\, at Woodbank Community Food Hub\, from 11am – 4pm. \nCome along for a jam-packed day filled with fun\, tasty food\, music and sunshine (fingers crossed).There will be lots of stalls and activities such as making bug-hotels\, seed planting\, laughter workshop\, learn to mend\, arabic cooking demo\, climate conversations\,bug hunts\, nature connection\, games\, quizzes and more. \nAll activities and food will be provided for free\, including pizzas and tasty cakes. \nEveryone is welcome!
URL:https://slheatons.org/event/greenstock-2024/
LOCATION:Woodbank Park\, Turncroft Lane\, Offerton\, Stockport\, SK1 4JR
CATEGORIES:Low Carbon Heatons,Meeting,Wild Heatons & Biodiversity
ATTACH;FMTTYPE=image/png:https://slheatons.org/wp-content/uploads/2024/04/Greenstock-social-media-1.png
END:VEVENT
END:VCALENDAR