BEGIN:VCALENDAR
VERSION:2.0
PRODID:-//Sustainable Living in the Heatons - ECPv6.15.17.1//NONSGML v1.0//EN
CALSCALE:GREGORIAN
METHOD:PUBLISH
X-ORIGINAL-URL:https://slheatons.org
X-WR-CALDESC:Events for Sustainable Living in the Heatons
REFRESH-INTERVAL;VALUE=DURATION:PT1H
X-Robots-Tag:noindex
X-PUBLISHED-TTL:PT1H
BEGIN:VTIMEZONE
TZID:UTC
BEGIN:STANDARD
TZOFFSETFROM:+0000
TZOFFSETTO:+0000
TZNAME:UTC
DTSTART:20230101T000000
END:STANDARD
END:VTIMEZONE
BEGIN:VEVENT
DTSTART;TZID=UTC:20240807T190000
DTEND;TZID=UTC:20240807T210000
DTSTAMP:20260424T184901
CREATED:20240804T190912Z
LAST-MODIFIED:20240804T190912Z
UID:10001130-1723057200-1723064400@slheatons.org
SUMMARY:SLH August Meeting/Picnic
DESCRIPTION:Join us at the Meadows Orchard for our monthly meeting with a twist! \nBring something to eat or drink and share with others. If the weather forecast is not looking favourable we can find an alternative location (probably a pub!).
URL:https://slheatons.org/event/slh-august-meeting-picnic/
CATEGORIES:Meeting,Wild Heatons & Biodiversity
ATTACH;FMTTYPE=image/jpeg:https://slheatons.org/wp-content/uploads/2024/08/autumn-tea-fall-4579561.jpg
END:VEVENT
BEGIN:VEVENT
DTSTART;TZID=UTC:20240817T103000
DTEND;TZID=UTC:20240817T123000
DTSTAMP:20260424T184901
CREATED:20240106T182216Z
LAST-MODIFIED:20251202T211146Z
UID:10000875-1723890600-1723897800@slheatons.org
SUMMARY:Friends of Darley Street Task Day
DESCRIPTION:Darley Street is a beautiful community garden that can be enjoyed by all. \nOur Friends group meets on the 3rd Saturday of the month at 10:30 a.m. \nDarley Street is situated at in the heart of the Heaton Norris conservation area\, at the junction of Green Lane and Alexandra Road close to the Nursery pub.
URL:https://slheatons.org/event/friends-of-darley-street-task-day/2024-08-17/
LOCATION:Darly Street\, Heaton Norris
CATEGORIES:Meeting,Planting & Growing,Wild Heatons & Biodiversity
ATTACH;FMTTYPE=image/jpeg:https://slheatons.org/wp-content/uploads/2024/01/September-2022-full-autumn-colour.jpg
END:VEVENT
BEGIN:VEVENT
DTSTART;TZID=UTC:20240821T203000
DTEND;TZID=UTC:20240821T213000
DTSTAMP:20260424T184901
CREATED:20240804T184912Z
LAST-MODIFIED:20240804T184912Z
UID:10001109-1724272200-1724275800@slheatons.org
SUMMARY:Evening bat walk in Heaton Mersey
DESCRIPTION:Join us for a dusk walk near the river in Heaton Mersey to observe bats using detection monitors. \nThis evening bat walk will give you the chance to hear and observe the bats using our special bat monitoring equipment. The insects will be out and the bats will be hunting! \nThe event will last just over an hour\, and will take you from a meeting place in Heaton Mersey down to the river. \nThe bat walks are led by volunteers from Sustainable Living in the Heatons\, trained by ecologist Jeff Clarke\, and with funding from the Stockport Hydro Environmental Challenge Fund to purchase the bat monitors. \nCheck out our bats page for information about previous bat walks. \nBook for free on eventbrite
URL:https://slheatons.org/event/evening-bat-walk-in-heaton-mersey-9/
LOCATION:To be confirmed Heaton Mersey SK4\, To be confirmed\, SK4
CATEGORIES:Meeting,Wild Heatons & Biodiversity
ATTACH;FMTTYPE=image/jpeg:https://slheatons.org/wp-content/uploads/2023/03/Bat-644x691-1-e1680187995837.jpg
END:VEVENT
BEGIN:VEVENT
DTSTART;TZID=UTC:20240826T202000
DTEND;TZID=UTC:20240826T212000
DTSTAMP:20260424T184901
CREATED:20240804T185002Z
LAST-MODIFIED:20240804T185002Z
UID:10001124-1724703600-1724707200@slheatons.org
SUMMARY:Evening bat walk in Heaton Mersey
DESCRIPTION:Join us for a dusk walk near the river in Heaton Mersey to observe bats using detection monitors. \nThis evening bat walk will give you the chance to hear and observe the bats using our special bat monitoring equipment. The insects will be out and the bats will be hunting! \nThe event will last just over an hour\, and will take you from a meeting place in Heaton Mersey down to the river. \nThe bat walks are led by volunteers from Sustainable Living in the Heatons\, trained by ecologist Jeff Clarke\, and with funding from the Stockport Hydro Environmental Challenge Fund to purchase the bat monitors. \nCheck out our bats page for information about previous bat walks. \nBook for free on eventbrite
URL:https://slheatons.org/event/evening-bat-walk-in-heaton-mersey-10/
LOCATION:To be confirmed Heaton Mersey SK4\, To be confirmed\, SK4
CATEGORIES:Meeting,Wild Heatons & Biodiversity
ATTACH;FMTTYPE=image/jpeg:https://slheatons.org/wp-content/uploads/2023/03/Bat-644x691-1-e1680187995837.jpg
END:VEVENT
BEGIN:VEVENT
DTSTART;TZID=UTC:20240828T201500
DTEND;TZID=UTC:20240828T211500
DTSTAMP:20260424T184901
CREATED:20240804T185107Z
LAST-MODIFIED:20240804T185107Z
UID:10001125-1724876100-1724879700@slheatons.org
SUMMARY:Evening bat walk in Heaton Mersey
DESCRIPTION:Join us for a dusk walk near the river in Heaton Mersey to observe bats using detection monitors. \nThis evening bat walk will give you the chance to hear and observe the bats using our special bat monitoring equipment. The insects will be out and the bats will be hunting! \nThe event will last just over an hour\, and will take you from a meeting place in Heaton Mersey down to the river. \nThe bat walks are led by volunteers from Sustainable Living in the Heatons\, trained by ecologist Jeff Clarke\, and with funding from the Stockport Hydro Environmental Challenge Fund to purchase the bat monitors. \nCheck out our bats page for information about previous bat walks. \nBook for free on eventbrite
URL:https://slheatons.org/event/evening-bat-walk-in-heaton-mersey-11/
LOCATION:To be confirmed Heaton Mersey SK4\, To be confirmed\, SK4
CATEGORIES:Meeting,Wild Heatons & Biodiversity
ATTACH;FMTTYPE=image/jpeg:https://slheatons.org/wp-content/uploads/2023/03/Bat-644x691-1-e1680187995837.jpg
END:VEVENT
BEGIN:VEVENT
DTSTART;TZID=UTC:20240831T130000
DTEND;TZID=UTC:20240831T153000
DTSTAMP:20260424T184901
CREATED:20240211T170359Z
LAST-MODIFIED:20240826T140659Z
UID:10000931-1725109200-1725118200@slheatons.org
SUMMARY:Family-Friendly Bike Ride to Abney Hall
DESCRIPTION:Join us for a fun-filled bike ride to Abney Hall\, perfect for the whole family to enjoy together! \nJoin us for a fun-filled bike ride to Abney Hall! This exciting event is perfect for the whole family to enjoy together. We’ll be meeting at Thornfield Park on Thornfield Road in Heaton Mersey\, Stockport\, UK. \nWe’ll be on some quiet roads but our route is largely off-road including a section of the Trans Pennine Trail down to the River Mersey. At Abney Hall there’s the little cafe to enjoy and for those who want\, a short game of rounders. This is a great ride for people and families with children who want to get confident on the bike and to cycle to local places. \nThe total distance is approx 6 miles. \nBook for free on eventbrite
URL:https://slheatons.org/event/family-friendly-bike-ride-to-abney-hall/
LOCATION:Thornfield Road Heaton Mersey SK4 3JT\, Thornfield Road\, SK4 3JT\, United Kingdom
CATEGORIES:Cycling,Low Carbon Heatons,Meeting
ATTACH;FMTTYPE=image/jpeg:https://slheatons.org/wp-content/uploads/2023/03/Floop-Bike-Ride-e1680258455435.jpg
END:VEVENT
END:VCALENDAR