BEGIN:VCALENDAR
VERSION:2.0
PRODID:-//Sustainable Living in the Heatons - ECPv6.15.17.1//NONSGML v1.0//EN
CALSCALE:GREGORIAN
METHOD:PUBLISH
X-WR-CALNAME:Sustainable Living in the Heatons
X-ORIGINAL-URL:https://slheatons.org
X-WR-CALDESC:Events for Sustainable Living in the Heatons
REFRESH-INTERVAL;VALUE=DURATION:PT1H
X-Robots-Tag:noindex
X-PUBLISHED-TTL:PT1H
BEGIN:VTIMEZONE
TZID:UTC
BEGIN:STANDARD
TZOFFSETFROM:+0000
TZOFFSETTO:+0000
TZNAME:UTC
DTSTART:20230101T000000
END:STANDARD
END:VTIMEZONE
BEGIN:VEVENT
DTSTART;TZID=UTC:20240901T113000
DTEND;TZID=UTC:20240901T133000
DTSTAMP:20260424T165618
CREATED:20240707T063221Z
LAST-MODIFIED:20240819T180948Z
UID:10001032-1725190200-1725197400@slheatons.org
SUMMARY:Refurbishment of the SLH Deluxe Bug Hotel
DESCRIPTION:A task day to refresh and refurbish the SLH Deluxe Bug Hotel at St.Paul’s Church in Heaton Moor. This is on the same day as the Heaton Moor Producers Market\, when the St Paul’s Church team will also sell drinks and\ncakes in the gardens. \nWe have some materials left over from other bug hotel events and children will also be able to gather stuff from the grounds – twigs\, logs\, grasses\, sticks\, bamboo.
URL:https://slheatons.org/event/refurbishment-of-the-slh-deluxe-bug-hotel/
LOCATION:St Paul’s\, St Paul's Church\, St Paul's Road\, Stockport\, Greater Manchester\, SK4 4RY\, United Kingdom
CATEGORIES:Meeting,Wild Heatons & Biodiversity
ATTACH;FMTTYPE=image/jpeg:https://slheatons.org/wp-content/uploads/2024/07/insect-hotel-bee-hotel-wild-bee-5082523.jpg
END:VEVENT
BEGIN:VEVENT
DTSTART;TZID=UTC:20240901T200500
DTEND;TZID=UTC:20240901T210500
DTSTAMP:20260424T165618
CREATED:20240804T185616Z
LAST-MODIFIED:20240804T185616Z
UID:10001126-1725221100-1725224700@slheatons.org
SUMMARY:Evening bat walk in Heaton Mersey
DESCRIPTION:Join us for a dusk walk near the river in Heaton Mersey to observe bats using detection monitors. \nThis evening bat walk will give you the chance to hear and observe the bats using our special bat monitoring equipment. The insects will be out and the bats will be hunting! \nThe event will last just over an hour\, and will take you from a meeting place in Heaton Mersey down to the river. \nThe bat walks are led by volunteers from Sustainable Living in the Heatons\, trained by ecologist Jeff Clarke\, and with funding from the Stockport Hydro Environmental Challenge Fund to purchase the bat monitors. \nCheck out our bats page for information about previous bat walks. \nBook for free on eventbrite
URL:https://slheatons.org/event/evening-bat-walk-in-heaton-mersey-12/
LOCATION:To be confirmed Heaton Mersey SK4\, To be confirmed\, SK4
CATEGORIES:Meeting,Wild Heatons & Biodiversity
ATTACH;FMTTYPE=image/jpeg:https://slheatons.org/wp-content/uploads/2023/03/Bat-644x691-1-e1680187995837.jpg
END:VEVENT
BEGIN:VEVENT
DTSTART;TZID=UTC:20240903T200000
DTEND;TZID=UTC:20240903T210000
DTSTAMP:20260424T165618
CREATED:20240804T185659Z
LAST-MODIFIED:20240804T185659Z
UID:10001127-1725393600-1725397200@slheatons.org
SUMMARY:Evening bat walk in Heaton Mersey
DESCRIPTION:Join us for a dusk walk near the river in Heaton Mersey to observe bats using detection monitors. \nThis evening bat walk will give you the chance to hear and observe the bats using our special bat monitoring equipment. The insects will be out and the bats will be hunting! \nThe event will last just over an hour\, and will take you from a meeting place in Heaton Mersey down to the river. \nThe bat walks are led by volunteers from Sustainable Living in the Heatons\, trained by ecologist Jeff Clarke\, and with funding from the Stockport Hydro Environmental Challenge Fund to purchase the bat monitors. \nCheck out our bats page for information about previous bat walks. \nBook for free on eventbrite
URL:https://slheatons.org/event/evening-bat-walk-in-heaton-mersey-13/
LOCATION:To be confirmed Heaton Mersey SK4\, To be confirmed\, SK4
CATEGORIES:Meeting,Wild Heatons & Biodiversity
ATTACH;FMTTYPE=image/jpeg:https://slheatons.org/wp-content/uploads/2023/03/Bat-644x691-1-e1680187995837.jpg
END:VEVENT
BEGIN:VEVENT
DTSTART;TZID=UTC:20240907T103000
DTEND;TZID=UTC:20240907T120000
DTSTAMP:20260424T165618
CREATED:20230330T153849Z
LAST-MODIFIED:20250902T180944Z
UID:10000020-1725705000-1725710400@slheatons.org
SUMMARY:Monthly Meeting
DESCRIPTION:The SLH monthly meetings are on the first Saturday of the month from 10.30am to 12.00 noon.  Our meetings are held at the Patio Room\, Heaton Moor United Church\, Stanley Rd SK4 4HL. The room has direct access from the car park and has a shared kitchen and toilets very close to the room. Hot drinks will be provided for everyone. \nEveryone is welcome to our meeting. Contact info@slheatons.org if you have questions. We use the time to discuss and plan our activities\, and have occasional guest speakers.  Everyone is welcome. Do come and meet us!
URL:https://slheatons.org/event/monthly-meeting/2024-09-07/
LOCATION:Patio Room\, Heaton Moor United Church\, Stanley Rd SK4 4HL\, Patio Room\, Heaton Moor United Church\, Stanley Rd\, SK4 4HL
CATEGORIES:Meeting
ATTACH;FMTTYPE=image/jpeg:https://slheatons.org/wp-content/uploads/2023/03/Monthly-Meeting.jpg
END:VEVENT
BEGIN:VEVENT
DTSTART;TZID=UTC:20240907T195000
DTEND;TZID=UTC:20240907T205000
DTSTAMP:20260424T165618
CREATED:20240804T185747Z
LAST-MODIFIED:20240804T185747Z
UID:10001128-1725738600-1725742200@slheatons.org
SUMMARY:Evening bat walk in Heaton Mersey
DESCRIPTION:Join us for a dusk walk near the river in Heaton Mersey to observe bats using detection monitors. \nThis evening bat walk will give you the chance to hear and observe the bats using our special bat monitoring equipment. The insects will be out and the bats will be hunting! \nThe event will last just over an hour\, and will take you from a meeting place in Heaton Mersey down to the river. \nThe bat walks are led by volunteers from Sustainable Living in the Heatons\, trained by ecologist Jeff Clarke\, and with funding from the Stockport Hydro Environmental Challenge Fund to purchase the bat monitors. \nCheck out our bats page for information about previous bat walks. \nBook for free on eventbrite
URL:https://slheatons.org/event/evening-bat-walk-in-heaton-mersey-14/
LOCATION:To be confirmed Heaton Mersey SK4\, To be confirmed\, SK4
CATEGORIES:Meeting,Wild Heatons & Biodiversity
ATTACH;FMTTYPE=image/jpeg:https://slheatons.org/wp-content/uploads/2023/03/Bat-644x691-1-e1680187995837.jpg
END:VEVENT
BEGIN:VEVENT
DTSTART;TZID=UTC:20240909T194500
DTEND;TZID=UTC:20240909T204500
DTSTAMP:20260424T165618
CREATED:20240804T185819Z
LAST-MODIFIED:20240804T185819Z
UID:10001129-1725911100-1725914700@slheatons.org
SUMMARY:Evening bat walk in Heaton Mersey
DESCRIPTION:Join us for a dusk walk near the river in Heaton Mersey to observe bats using detection monitors. \nThis evening bat walk will give you the chance to hear and observe the bats using our special bat monitoring equipment. The insects will be out and the bats will be hunting! \nThe event will last just over an hour\, and will take you from a meeting place in Heaton Mersey down to the river. \nThe bat walks are led by volunteers from Sustainable Living in the Heatons\, trained by ecologist Jeff Clarke\, and with funding from the Stockport Hydro Environmental Challenge Fund to purchase the bat monitors. \nCheck out our bats page for information about previous bat walks. \nBook for free on eventbrite
URL:https://slheatons.org/event/evening-bat-walk-in-heaton-mersey-15/
LOCATION:To be confirmed Heaton Mersey SK4\, To be confirmed\, SK4
CATEGORIES:Meeting,Wild Heatons & Biodiversity
ATTACH;FMTTYPE=image/jpeg:https://slheatons.org/wp-content/uploads/2023/03/Bat-644x691-1-e1680187995837.jpg
END:VEVENT
BEGIN:VEVENT
DTSTART;TZID=UTC:20240921T103000
DTEND;TZID=UTC:20240921T123000
DTSTAMP:20260424T165618
CREATED:20240106T182216Z
LAST-MODIFIED:20251202T211146Z
UID:10000876-1726914600-1726921800@slheatons.org
SUMMARY:Friends of Darley Street Task Day
DESCRIPTION:Darley Street is a beautiful community garden that can be enjoyed by all. \nOur Friends group meets on the 3rd Saturday of the month at 10:30 a.m. \nDarley Street is situated at in the heart of the Heaton Norris conservation area\, at the junction of Green Lane and Alexandra Road close to the Nursery pub.
URL:https://slheatons.org/event/friends-of-darley-street-task-day/2024-09-21/
LOCATION:Darly Street\, Heaton Norris
CATEGORIES:Meeting,Planting & Growing,Wild Heatons & Biodiversity
ATTACH;FMTTYPE=image/jpeg:https://slheatons.org/wp-content/uploads/2024/01/September-2022-full-autumn-colour.jpg
END:VEVENT
END:VCALENDAR