BEGIN:VCALENDAR
VERSION:2.0
PRODID:-//Sustainable Living in the Heatons - ECPv6.15.17.1//NONSGML v1.0//EN
CALSCALE:GREGORIAN
METHOD:PUBLISH
X-ORIGINAL-URL:https://slheatons.org
X-WR-CALDESC:Events for Sustainable Living in the Heatons
REFRESH-INTERVAL;VALUE=DURATION:PT1H
X-Robots-Tag:noindex
X-PUBLISHED-TTL:PT1H
BEGIN:VTIMEZONE
TZID:UTC
BEGIN:STANDARD
TZOFFSETFROM:+0000
TZOFFSETTO:+0000
TZNAME:UTC
DTSTART:20240101T000000
END:STANDARD
END:VTIMEZONE
BEGIN:VEVENT
DTSTART;TZID=UTC:20250201T103000
DTEND;TZID=UTC:20250201T120000
DTSTAMP:20260424T075113
CREATED:20230330T153849Z
LAST-MODIFIED:20250902T180944Z
UID:10000025-1738405800-1738411200@slheatons.org
SUMMARY:Monthly Meeting
DESCRIPTION:The SLH monthly meetings are on the first Saturday of the month from 10.30am to 12.00 noon.  Our meetings are held at the Patio Room\, Heaton Moor United Church\, Stanley Rd SK4 4HL. The room has direct access from the car park and has a shared kitchen and toilets very close to the room. Hot drinks will be provided for everyone. \nEveryone is welcome to our meeting. Contact info@slheatons.org if you have questions. We use the time to discuss and plan our activities\, and have occasional guest speakers.  Everyone is welcome. Do come and meet us!
URL:https://slheatons.org/event/monthly-meeting/2025-02-01/
LOCATION:Patio Room\, Heaton Moor United Church\, Stanley Rd SK4 4HL\, Patio Room\, Heaton Moor United Church\, Stanley Rd\, SK4 4HL
CATEGORIES:Meeting
ATTACH;FMTTYPE=image/jpeg:https://slheatons.org/wp-content/uploads/2023/03/Monthly-Meeting.jpg
END:VEVENT
BEGIN:VEVENT
DTSTART;TZID=UTC:20250215T103000
DTEND;TZID=UTC:20250215T123000
DTSTAMP:20260424T075113
CREATED:20240106T182216Z
LAST-MODIFIED:20251202T211146Z
UID:10000881-1739615400-1739622600@slheatons.org
SUMMARY:Friends of Darley Street Task Day
DESCRIPTION:Darley Street is a beautiful community garden that can be enjoyed by all. \nOur Friends group meets on the 3rd Saturday of the month at 10:30 a.m. \nDarley Street is situated at in the heart of the Heaton Norris conservation area\, at the junction of Green Lane and Alexandra Road close to the Nursery pub.
URL:https://slheatons.org/event/friends-of-darley-street-task-day/2025-02-15/
LOCATION:Darly Street\, Heaton Norris
CATEGORIES:Meeting,Planting & Growing,Wild Heatons & Biodiversity
ATTACH;FMTTYPE=image/jpeg:https://slheatons.org/wp-content/uploads/2024/01/September-2022-full-autumn-colour.jpg
END:VEVENT
BEGIN:VEVENT
DTSTART;TZID=UTC:20250219T182000
DTEND;TZID=UTC:20250219T203000
DTSTAMP:20260424T075113
CREATED:20250113T204834Z
LAST-MODIFIED:20250113T204834Z
UID:10001163-1739989200-1739997000@slheatons.org
SUMMARY:Visit to the Recycling Centre in Sharston
DESCRIPTION:Have you ever wondered how your recycling materials are sorted? Join the SLH team on our trip to see and hear how recycling happens. We’ll get a tour of the facility that uses lasers\, cyclones\, and magnets to separate the recycling in over a million homes\, and the chance to take part in activities to help us to understand the process. \nEveryone is welcome\, although this event is unsuitable for those under 7. \nTo reserve your place\, book here before 14th February. \nWe encourage you to travel by public transport or to car share. We will arrange a local meeting place in the Heatons so people can travel together. \nAny questions? Contact info@slheatons.org
URL:https://slheatons.org/event/visit-to-the-recycling-centre-in-sharston/
LOCATION:R4GM Longley Lane Visitor Centre\, R4GM Longley Lane Visitor Centre\, Sharston\, Manchester\, M22 4RQ\, United Kingdom
CATEGORIES:Low Carbon Heatons,Meeting
ATTACH;FMTTYPE=image/jpeg:https://slheatons.org/wp-content/uploads/2023/04/Carbon-Footprints.jpg
END:VEVENT
END:VCALENDAR