BEGIN:VCALENDAR
VERSION:2.0
PRODID:-//Sustainable Living in the Heatons - ECPv6.15.17.1//NONSGML v1.0//EN
CALSCALE:GREGORIAN
METHOD:PUBLISH
X-WR-CALNAME:Sustainable Living in the Heatons
X-ORIGINAL-URL:https://slheatons.org
X-WR-CALDESC:Events for Sustainable Living in the Heatons
REFRESH-INTERVAL;VALUE=DURATION:PT1H
X-Robots-Tag:noindex
X-PUBLISHED-TTL:PT1H
BEGIN:VTIMEZONE
TZID:UTC
BEGIN:STANDARD
TZOFFSETFROM:+0000
TZOFFSETTO:+0000
TZNAME:UTC
DTSTART:20240101T000000
END:STANDARD
END:VTIMEZONE
BEGIN:VEVENT
DTSTART;TZID=UTC:20250607T103000
DTEND;TZID=UTC:20250607T120000
DTSTAMP:20260424T001056
CREATED:20230330T153849Z
LAST-MODIFIED:20250902T180944Z
UID:10000029-1749292200-1749297600@slheatons.org
SUMMARY:Monthly Meeting
DESCRIPTION:The SLH monthly meetings are on the first Saturday of the month from 10.30am to 12.00 noon.  Our meetings are held at the Patio Room\, Heaton Moor United Church\, Stanley Rd SK4 4HL. The room has direct access from the car park and has a shared kitchen and toilets very close to the room. Hot drinks will be provided for everyone. \nEveryone is welcome to our meeting. Contact info@slheatons.org if you have questions. We use the time to discuss and plan our activities\, and have occasional guest speakers.  Everyone is welcome. Do come and meet us!
URL:https://slheatons.org/event/monthly-meeting/2025-06-07/
LOCATION:Patio Room\, Heaton Moor United Church\, Stanley Rd SK4 4HL\, Patio Room\, Heaton Moor United Church\, Stanley Rd\, SK4 4HL
CATEGORIES:Meeting
ATTACH;FMTTYPE=image/jpeg:https://slheatons.org/wp-content/uploads/2023/03/Monthly-Meeting.jpg
END:VEVENT
BEGIN:VEVENT
DTSTART;TZID=UTC:20250621T103000
DTEND;TZID=UTC:20250621T123000
DTSTAMP:20260424T001056
CREATED:20240106T182216Z
LAST-MODIFIED:20251202T211146Z
UID:10000885-1750501800-1750509000@slheatons.org
SUMMARY:Friends of Darley Street Task Day
DESCRIPTION:Darley Street is a beautiful community garden that can be enjoyed by all. \nOur Friends group meets on the 3rd Saturday of the month at 10:30 a.m. \nDarley Street is situated at in the heart of the Heaton Norris conservation area\, at the junction of Green Lane and Alexandra Road close to the Nursery pub.
URL:https://slheatons.org/event/friends-of-darley-street-task-day/2025-06-21/
LOCATION:Darly Street\, Heaton Norris
CATEGORIES:Meeting,Planting & Growing,Wild Heatons & Biodiversity
ATTACH;FMTTYPE=image/jpeg:https://slheatons.org/wp-content/uploads/2024/01/September-2022-full-autumn-colour.jpg
END:VEVENT
BEGIN:VEVENT
DTSTART;TZID=UTC:20250629T130000
DTEND;TZID=UTC:20250629T160000
DTSTAMP:20260424T001056
CREATED:20250401T192948Z
LAST-MODIFIED:20250401T192948Z
UID:10001180-1751202000-1751212800@slheatons.org
SUMMARY:Fun-Filled Family Bike Ride to Heaton Mersey Common!
DESCRIPTION:Organised by Sustainable Living in the Heatons\, this is the bike ride to come on with the kids! We have all been watching how the new cycling and walking paths on the common have taken shape and we are hoping the paths will all be finished soon. This will be the chance for us all to explore them safely and to check out how they help us all to enjoy the common. Even new bike-riders will have fun on this ride which we will lead around the common\, and there will always be the opportunity for families to peel off for a rest at any time. We’ll stop for a drink and a snack in the big central grassed area\, and there will even be a game of rounders for anyone who is interested and want to burn off some extra energy! \nThis bike ride is the shortest of the season\, at just 3 miles maximum. Everyone is welcome. You can book your place here.
URL:https://slheatons.org/event/fun-filled-family-bike-ride-to-heaton-mersey-common/
LOCATION:Thornfield Park\, Thornfield Road\, SK4 3JT
CATEGORIES:Cycling,Meeting
ATTACH;FMTTYPE=image/jpeg:https://slheatons.org/wp-content/uploads/2023/04/Local-Cycling-Information-1-scaled.jpg
END:VEVENT
END:VCALENDAR