BEGIN:VCALENDAR
VERSION:2.0
PRODID:-//Sustainable Living in the Heatons - ECPv6.15.17.1//NONSGML v1.0//EN
CALSCALE:GREGORIAN
METHOD:PUBLISH
X-ORIGINAL-URL:https://slheatons.org
X-WR-CALDESC:Events for Sustainable Living in the Heatons
REFRESH-INTERVAL;VALUE=DURATION:PT1H
X-Robots-Tag:noindex
X-PUBLISHED-TTL:PT1H
BEGIN:VTIMEZONE
TZID:UTC
BEGIN:STANDARD
TZOFFSETFROM:+0000
TZOFFSETTO:+0000
TZNAME:UTC
DTSTART:20240101T000000
END:STANDARD
END:VTIMEZONE
BEGIN:VEVENT
DTSTART;TZID=UTC:20250705T103000
DTEND;TZID=UTC:20250705T120000
DTSTAMP:20260423T222132
CREATED:20230330T153849Z
LAST-MODIFIED:20250902T180944Z
UID:10000030-1751711400-1751716800@slheatons.org
SUMMARY:Monthly Meeting
DESCRIPTION:The SLH monthly meetings are on the first Saturday of the month from 10.30am to 12.00 noon.  Our meetings are held at the Patio Room\, Heaton Moor United Church\, Stanley Rd SK4 4HL. The room has direct access from the car park and has a shared kitchen and toilets very close to the room. Hot drinks will be provided for everyone. \nEveryone is welcome to our meeting. Contact info@slheatons.org if you have questions. We use the time to discuss and plan our activities\, and have occasional guest speakers.  Everyone is welcome. Do come and meet us!
URL:https://slheatons.org/event/monthly-meeting/2025-07-05/
LOCATION:Patio Room\, Heaton Moor United Church\, Stanley Rd SK4 4HL\, Patio Room\, Heaton Moor United Church\, Stanley Rd\, SK4 4HL
CATEGORIES:Meeting
ATTACH;FMTTYPE=image/jpeg:https://slheatons.org/wp-content/uploads/2023/03/Monthly-Meeting.jpg
END:VEVENT
BEGIN:VEVENT
DTSTART;TZID=UTC:20250719T103000
DTEND;TZID=UTC:20250719T123000
DTSTAMP:20260423T222132
CREATED:20240106T182216Z
LAST-MODIFIED:20251202T211146Z
UID:10000886-1752921000-1752928200@slheatons.org
SUMMARY:Friends of Darley Street Task Day
DESCRIPTION:Darley Street is a beautiful community garden that can be enjoyed by all. \nOur Friends group meets on the 3rd Saturday of the month at 10:30 a.m. \nDarley Street is situated at in the heart of the Heaton Norris conservation area\, at the junction of Green Lane and Alexandra Road close to the Nursery pub.
URL:https://slheatons.org/event/friends-of-darley-street-task-day/2025-07-19/
LOCATION:Darly Street\, Heaton Norris
CATEGORIES:Meeting,Planting & Growing,Wild Heatons & Biodiversity
ATTACH;FMTTYPE=image/jpeg:https://slheatons.org/wp-content/uploads/2024/01/September-2022-full-autumn-colour.jpg
END:VEVENT
BEGIN:VEVENT
DTSTART;TZID=UTC:20250727T100000
DTEND;TZID=UTC:20250727T150000
DTSTAMP:20260423T222132
CREATED:20250401T193231Z
LAST-MODIFIED:20250401T193231Z
UID:10001181-1753610400-1753628400@slheatons.org
SUMMARY:Lovely Family-Friendly Bike Ride to Clayton Vale via Phillips Park and Manchester Velodrome
DESCRIPTION:This is one of longer bike rides organised by Sustainable Living in the Heaton this season\, and takes us to places that our rides have never visited before! We hope that many of you will join us for this ride of about 16 miles\, much of it off road or on quiet urban streets. \nOur endpoint is Clayton Vale\, a Local Nature Reserve and a great place to enjoy woodland and walks along the river Medlock\, cycling\, picnicking or pond dipping. We’ll get there by going east along the Fallowfield Loop\, via Phillips Park\,  opened in 1846 as one of the world’s first municipal parks\, and also calling into the Manchester Velodrome\, known as “the home of British cycling”. \nBring a picnic to eat at Clayton Vale\, plenty of water in case it’s hot\, and clothes to fit the weather. \n You can book your place here.
URL:https://slheatons.org/event/lovely-family-friendly-bike-ride-to-clayton-vale-via-phillips-park-and-manchester-velodrome/
LOCATION:Thornfield Park\, Thornfield Road\, SK4 3JT
CATEGORIES:Cycling,Meeting
ATTACH;FMTTYPE=image/jpeg:https://slheatons.org/wp-content/uploads/2023/04/Local-Cycling-Information-1-scaled.jpg
END:VEVENT
END:VCALENDAR