BEGIN:VCALENDAR
VERSION:2.0
PRODID:-//Sustainable Living in the Heatons - ECPv6.15.17.1//NONSGML v1.0//EN
CALSCALE:GREGORIAN
METHOD:PUBLISH
X-ORIGINAL-URL:https://slheatons.org
X-WR-CALDESC:Events for Sustainable Living in the Heatons
REFRESH-INTERVAL;VALUE=DURATION:PT1H
X-Robots-Tag:noindex
X-PUBLISHED-TTL:PT1H
BEGIN:VTIMEZONE
TZID:UTC
BEGIN:STANDARD
TZOFFSETFROM:+0000
TZOFFSETTO:+0000
TZNAME:UTC
DTSTART:20220101T000000
END:STANDARD
END:VTIMEZONE
BEGIN:VEVENT
DTSTART;TZID=UTC:20231112T103000
DTEND;TZID=UTC:20231112T123000
DTSTAMP:20260421T015856
CREATED:20230403T113017Z
LAST-MODIFIED:20251220T112158Z
UID:10000319-1699785000-1699792200@slheatons.org
SUMMARY:Heaton Mersey Village Garden Maintenance Session
DESCRIPTION:Come and join Heaton Mersey Village Gardeners for a task day at Heaton Mersey Village Garden! There is lots of information about this space in our blog. Contact us via info@slhheatons.org  for more information about what we do or feel free to drop by the Village Garden in person.  We still meet even during winter months\, although the task day is weather permitting.
URL:https://slheatons.org/event/heaton-mersey-village-garden-maintenance-session/2023-11-12/
CATEGORIES:Planting & Growing
ATTACH;FMTTYPE=image/jpeg:https://slheatons.org/wp-content/uploads/2023/03/Heaton-Mersey-Village-Garden-e1680260072820.jpg
END:VEVENT
BEGIN:VEVENT
DTSTART;TZID=UTC:20231024T103000
DTEND;TZID=UTC:20231024T123000
DTSTAMP:20260421T015856
CREATED:20230521T065155Z
LAST-MODIFIED:20230521T065155Z
UID:10000442-1698143400-1698150600@slheatons.org
SUMMARY:Heaton Mersey Village Garden Maintenance Session
DESCRIPTION:Come and join Heaton Mersey Village Gardeners for a task day at Heaton Mersey Village Garden! There is lots of information about this space in our blog. Contact us via info@slhheatons.org  for more information about what we do or feel free to drop by the Village Garden in person.  We still meet even during winter months\, although the task day is weather permitting.
URL:https://slheatons.org/event/heaton-mersey-village-garden-maintenance-session-3/2023-10-24/
CATEGORIES:Planting & Growing
ATTACH;FMTTYPE=image/jpeg:https://slheatons.org/wp-content/uploads/2023/03/Heaton-Mersey-Village-Garden-e1680260072820.jpg
END:VEVENT
BEGIN:VEVENT
DTSTART;TZID=UTC:20231008T103000
DTEND;TZID=UTC:20231008T123000
DTSTAMP:20260421T015856
CREATED:20230403T113017Z
LAST-MODIFIED:20251220T112158Z
UID:10000318-1696761000-1696768200@slheatons.org
SUMMARY:Heaton Mersey Village Garden Maintenance Session
DESCRIPTION:Come and join Heaton Mersey Village Gardeners for a task day at Heaton Mersey Village Garden! There is lots of information about this space in our blog. Contact us via info@slhheatons.org  for more information about what we do or feel free to drop by the Village Garden in person.  We still meet even during winter months\, although the task day is weather permitting.
URL:https://slheatons.org/event/heaton-mersey-village-garden-maintenance-session/2023-10-08/
CATEGORIES:Planting & Growing
ATTACH;FMTTYPE=image/jpeg:https://slheatons.org/wp-content/uploads/2023/03/Heaton-Mersey-Village-Garden-e1680260072820.jpg
END:VEVENT
BEGIN:VEVENT
DTSTART;TZID=UTC:20230926T103000
DTEND;TZID=UTC:20230926T123000
DTSTAMP:20260421T015856
CREATED:20230521T065155Z
LAST-MODIFIED:20230521T065155Z
UID:10000441-1695724200-1695731400@slheatons.org
SUMMARY:Heaton Mersey Village Garden Maintenance Session
DESCRIPTION:Come and join Heaton Mersey Village Gardeners for a task day at Heaton Mersey Village Garden! There is lots of information about this space in our blog. Contact us via info@slhheatons.org  for more information about what we do or feel free to drop by the Village Garden in person.  We still meet even during winter months\, although the task day is weather permitting.
URL:https://slheatons.org/event/heaton-mersey-village-garden-maintenance-session-3/2023-09-26/
CATEGORIES:Planting & Growing
ATTACH;FMTTYPE=image/jpeg:https://slheatons.org/wp-content/uploads/2023/03/Heaton-Mersey-Village-Garden-e1680260072820.jpg
END:VEVENT
BEGIN:VEVENT
DTSTART;TZID=UTC:20230910T103000
DTEND;TZID=UTC:20230910T123000
DTSTAMP:20260421T015856
CREATED:20230403T113017Z
LAST-MODIFIED:20251220T112158Z
UID:10000317-1694341800-1694349000@slheatons.org
SUMMARY:Heaton Mersey Village Garden Maintenance Session
DESCRIPTION:Come and join Heaton Mersey Village Gardeners for a task day at Heaton Mersey Village Garden! There is lots of information about this space in our blog. Contact us via info@slhheatons.org  for more information about what we do or feel free to drop by the Village Garden in person.  We still meet even during winter months\, although the task day is weather permitting.
URL:https://slheatons.org/event/heaton-mersey-village-garden-maintenance-session/2023-09-10/
CATEGORIES:Planting & Growing
ATTACH;FMTTYPE=image/jpeg:https://slheatons.org/wp-content/uploads/2023/03/Heaton-Mersey-Village-Garden-e1680260072820.jpg
END:VEVENT
BEGIN:VEVENT
DTSTART;TZID=UTC:20230822T103000
DTEND;TZID=UTC:20230822T123000
DTSTAMP:20260421T015856
CREATED:20230521T065155Z
LAST-MODIFIED:20230521T065155Z
UID:10000440-1692700200-1692707400@slheatons.org
SUMMARY:Heaton Mersey Village Garden Maintenance Session
DESCRIPTION:Come and join Heaton Mersey Village Gardeners for a task day at Heaton Mersey Village Garden! There is lots of information about this space in our blog. Contact us via info@slhheatons.org  for more information about what we do or feel free to drop by the Village Garden in person.  We still meet even during winter months\, although the task day is weather permitting.
URL:https://slheatons.org/event/heaton-mersey-village-garden-maintenance-session-3/2023-08-22/
CATEGORIES:Planting & Growing
ATTACH;FMTTYPE=image/jpeg:https://slheatons.org/wp-content/uploads/2023/03/Heaton-Mersey-Village-Garden-e1680260072820.jpg
END:VEVENT
BEGIN:VEVENT
DTSTART;TZID=UTC:20230813T103000
DTEND;TZID=UTC:20230813T123000
DTSTAMP:20260421T015856
CREATED:20230403T113017Z
LAST-MODIFIED:20251220T112158Z
UID:10000316-1691922600-1691929800@slheatons.org
SUMMARY:Heaton Mersey Village Garden Maintenance Session
DESCRIPTION:Come and join Heaton Mersey Village Gardeners for a task day at Heaton Mersey Village Garden! There is lots of information about this space in our blog. Contact us via info@slhheatons.org  for more information about what we do or feel free to drop by the Village Garden in person.  We still meet even during winter months\, although the task day is weather permitting.
URL:https://slheatons.org/event/heaton-mersey-village-garden-maintenance-session/2023-08-13/
CATEGORIES:Planting & Growing
ATTACH;FMTTYPE=image/jpeg:https://slheatons.org/wp-content/uploads/2023/03/Heaton-Mersey-Village-Garden-e1680260072820.jpg
END:VEVENT
BEGIN:VEVENT
DTSTART;TZID=UTC:20230725T103000
DTEND;TZID=UTC:20230725T123000
DTSTAMP:20260421T015856
CREATED:20230521T065155Z
LAST-MODIFIED:20230521T065155Z
UID:10000439-1690281000-1690288200@slheatons.org
SUMMARY:Heaton Mersey Village Garden Maintenance Session
DESCRIPTION:Come and join Heaton Mersey Village Gardeners for a task day at Heaton Mersey Village Garden! There is lots of information about this space in our blog. Contact us via info@slhheatons.org  for more information about what we do or feel free to drop by the Village Garden in person.  We still meet even during winter months\, although the task day is weather permitting.
URL:https://slheatons.org/event/heaton-mersey-village-garden-maintenance-session-3/2023-07-25/
CATEGORIES:Planting & Growing
ATTACH;FMTTYPE=image/jpeg:https://slheatons.org/wp-content/uploads/2023/03/Heaton-Mersey-Village-Garden-e1680260072820.jpg
END:VEVENT
BEGIN:VEVENT
DTSTART;TZID=UTC:20230709T103000
DTEND;TZID=UTC:20230709T123000
DTSTAMP:20260421T015856
CREATED:20230403T113017Z
LAST-MODIFIED:20251220T112158Z
UID:10000315-1688898600-1688905800@slheatons.org
SUMMARY:Heaton Mersey Village Garden Maintenance Session
DESCRIPTION:Come and join Heaton Mersey Village Gardeners for a task day at Heaton Mersey Village Garden! There is lots of information about this space in our blog. Contact us via info@slhheatons.org  for more information about what we do or feel free to drop by the Village Garden in person.  We still meet even during winter months\, although the task day is weather permitting.
URL:https://slheatons.org/event/heaton-mersey-village-garden-maintenance-session/2023-07-09/
CATEGORIES:Planting & Growing
ATTACH;FMTTYPE=image/jpeg:https://slheatons.org/wp-content/uploads/2023/03/Heaton-Mersey-Village-Garden-e1680260072820.jpg
END:VEVENT
BEGIN:VEVENT
DTSTART;TZID=UTC:20230627T103000
DTEND;TZID=UTC:20230627T123000
DTSTAMP:20260421T015856
CREATED:20230521T065155Z
LAST-MODIFIED:20230521T065155Z
UID:10000438-1687861800-1687869000@slheatons.org
SUMMARY:Heaton Mersey Village Garden Maintenance Session
DESCRIPTION:Come and join Heaton Mersey Village Gardeners for a task day at Heaton Mersey Village Garden! There is lots of information about this space in our blog. Contact us via info@slhheatons.org  for more information about what we do or feel free to drop by the Village Garden in person.  We still meet even during winter months\, although the task day is weather permitting.
URL:https://slheatons.org/event/heaton-mersey-village-garden-maintenance-session-3/2023-06-27/
CATEGORIES:Planting & Growing
ATTACH;FMTTYPE=image/jpeg:https://slheatons.org/wp-content/uploads/2023/03/Heaton-Mersey-Village-Garden-e1680260072820.jpg
END:VEVENT
BEGIN:VEVENT
DTSTART;TZID=UTC:20230618T100000
DTEND;TZID=UTC:20230618T170000
DTSTAMP:20260421T015856
CREATED:20230331T100700Z
LAST-MODIFIED:20230616T071545Z
UID:10000308-1687082400-1687107600@slheatons.org
SUMMARY:SLH events at Heatons Open Gardens
DESCRIPTION:Come and visit our stall at Heaton Mersey Village Garden on Didsbury Road! The garden is looking fab thanks to the hard work of Dorothy and the gardening team. We will have lots of information about forthcoming activities and you can meet the friendly team to find out what we do and how to get involved.
URL:https://slheatons.org/event/slh-heatons-open-gardens/
LOCATION:Heaton Mersey Village Garden
CATEGORIES:Planting & Growing
ATTACH;FMTTYPE=image/jpeg:https://slheatons.org/wp-content/uploads/2023/03/Heatons-Open-Gardens-2023-Logo-e1680260811123.jpg
GEO:53.412234;-2.204942
END:VEVENT
BEGIN:VEVENT
DTSTART;TZID=UTC:20230611T103000
DTEND;TZID=UTC:20230611T123000
DTSTAMP:20260421T015856
CREATED:20230403T113017Z
LAST-MODIFIED:20251220T112158Z
UID:10000314-1686479400-1686486600@slheatons.org
SUMMARY:Heaton Mersey Village Garden Maintenance Session
DESCRIPTION:Come and join Heaton Mersey Village Gardeners for a task day at Heaton Mersey Village Garden! There is lots of information about this space in our blog. Contact us via info@slhheatons.org  for more information about what we do or feel free to drop by the Village Garden in person.  We still meet even during winter months\, although the task day is weather permitting.
URL:https://slheatons.org/event/heaton-mersey-village-garden-maintenance-session/2023-06-11/
CATEGORIES:Planting & Growing
ATTACH;FMTTYPE=image/jpeg:https://slheatons.org/wp-content/uploads/2023/03/Heaton-Mersey-Village-Garden-e1680260072820.jpg
END:VEVENT
BEGIN:VEVENT
DTSTART;TZID=UTC:20230604T130000
DTEND;TZID=UTC:20230604T150000
DTSTAMP:20260421T015856
CREATED:20230521T111903Z
LAST-MODIFIED:20230521T111903Z
UID:10000498-1685883600-1685890800@slheatons.org
SUMMARY:SLH Visit to Castlefield Viaduct
DESCRIPTION:This new urban initiative by the National Trust started 2022 and has been popular.  Some of the SLH team and their families will be making a visit and invite you to join them. Email info@slheatons.org and we will let you know how we are travelling and where you can meet us. Everyone will be welcome.
URL:https://slheatons.org/event/slh-visit-to-castlefield-viaduct/
CATEGORIES:Meeting,Planting & Growing,Walking,Wild Heatons & Biodiversity
ATTACH;FMTTYPE=image/jpeg:https://slheatons.org/wp-content/uploads/2023/04/Blog-Banner-scaled.jpg
END:VEVENT
BEGIN:VEVENT
DTSTART;TZID=UTC:20230523T103000
DTEND;TZID=UTC:20230523T123000
DTSTAMP:20260421T015856
CREATED:20230521T065155Z
LAST-MODIFIED:20230521T065155Z
UID:10000437-1684837800-1684845000@slheatons.org
SUMMARY:Heaton Mersey Village Garden Maintenance Session
DESCRIPTION:Come and join Heaton Mersey Village Gardeners for a task day at Heaton Mersey Village Garden! There is lots of information about this space in our blog. Contact us via info@slhheatons.org  for more information about what we do or feel free to drop by the Village Garden in person.  We still meet even during winter months\, although the task day is weather permitting.
URL:https://slheatons.org/event/heaton-mersey-village-garden-maintenance-session-3/2023-05-23/
CATEGORIES:Planting & Growing
ATTACH;FMTTYPE=image/jpeg:https://slheatons.org/wp-content/uploads/2023/03/Heaton-Mersey-Village-Garden-e1680260072820.jpg
END:VEVENT
BEGIN:VEVENT
DTSTART;TZID=UTC:20230521T100000
DTEND;TZID=UTC:20230521T120000
DTSTAMP:20260421T015856
CREATED:20230330T154750Z
LAST-MODIFIED:20230422T145227Z
UID:10000124-1684663200-1684670400@slheatons.org
SUMMARY:Hedge Maintenance
DESCRIPTION:Hedge maintenance session. We’ll be clearing the path running alongside this ancient hedge\, weeding around the hedge\, threading the branches and picking up litter. Come and join us to take part\, or have a chat about what we are doing. Wear sturdy shoes and long sleeves and bring gloves if you have them\, although we will come with equipment. \nWe usually have a break around 11am – tea\, coffee and biscuits will be provided! \nThe hedge is between Priestnall allotments and the recreation field\, on the lane that links Trentham Avenue (SK4 3QD) and Mersey Road. All welcome.
URL:https://slheatons.org/event/hedge-maintenance/2023-05-21/
LOCATION:Priestnall Allotments Hedge
CATEGORIES:Planting & Growing
ATTACH;FMTTYPE=image/jpeg:https://slheatons.org/wp-content/uploads/2023/03/Hedge-Maintenance.jpg
GEO:53.419567;-2.200235
END:VEVENT
BEGIN:VEVENT
DTSTART;TZID=UTC:20230518T110000
DTEND;TZID=UTC:20230518T160000
DTSTAMP:20260421T015856
CREATED:20230702T182350Z
LAST-MODIFIED:20240414T192215Z
UID:10000557-1684407600-1684425600@slheatons.org
SUMMARY:SLH Stall at Greenstock Community Fun Day
DESCRIPTION:Come and chat to the SLH volunteers at our stall at the Greenstock community fun day on Woodbank Park.
URL:https://slheatons.org/event/slh-stall-at-greenstock-community-fun-day/
LOCATION:Woodbank Park\, Turncroft Lane\, Offerton\, Stockport\, SK1 4JR
CATEGORIES:Meeting,Planting & Growing,Wild Heatons & Biodiversity
ATTACH;FMTTYPE=image/jpeg:https://slheatons.org/wp-content/uploads/2023/04/Low-Carbon-Heatons-Banner-scaled.jpg
END:VEVENT
BEGIN:VEVENT
DTSTART;TZID=UTC:20230514T103000
DTEND;TZID=UTC:20230514T123000
DTSTAMP:20260421T015856
CREATED:20230403T113017Z
LAST-MODIFIED:20251220T112158Z
UID:10000313-1684060200-1684067400@slheatons.org
SUMMARY:Heaton Mersey Village Garden Maintenance Session
DESCRIPTION:Come and join Heaton Mersey Village Gardeners for a task day at Heaton Mersey Village Garden! There is lots of information about this space in our blog. Contact us via info@slhheatons.org  for more information about what we do or feel free to drop by the Village Garden in person.  We still meet even during winter months\, although the task day is weather permitting.
URL:https://slheatons.org/event/heaton-mersey-village-garden-maintenance-session/2023-05-14/
CATEGORIES:Planting & Growing
ATTACH;FMTTYPE=image/jpeg:https://slheatons.org/wp-content/uploads/2023/03/Heaton-Mersey-Village-Garden-e1680260072820.jpg
END:VEVENT
BEGIN:VEVENT
DTSTART;TZID=UTC:20230416T100000
DTEND;TZID=UTC:20230416T120000
DTSTAMP:20260421T015856
CREATED:20230330T154750Z
LAST-MODIFIED:20230422T145227Z
UID:10000123-1681639200-1681646400@slheatons.org
SUMMARY:Hedge Maintenance
DESCRIPTION:Hedge maintenance session. We’ll be clearing the path running alongside this ancient hedge\, weeding around the hedge\, threading the branches and picking up litter. Come and join us to take part\, or have a chat about what we are doing. Wear sturdy shoes and long sleeves and bring gloves if you have them\, although we will come with equipment. \nWe usually have a break around 11am – tea\, coffee and biscuits will be provided! \nThe hedge is between Priestnall allotments and the recreation field\, on the lane that links Trentham Avenue (SK4 3QD) and Mersey Road. All welcome.
URL:https://slheatons.org/event/hedge-maintenance/2023-04-16/
LOCATION:Priestnall Allotments Hedge
CATEGORIES:Planting & Growing
ATTACH;FMTTYPE=image/jpeg:https://slheatons.org/wp-content/uploads/2023/03/Hedge-Maintenance.jpg
GEO:53.419567;-2.200235
END:VEVENT
BEGIN:VEVENT
DTSTART;TZID=UTC:20230409T103000
DTEND;TZID=UTC:20230409T123000
DTSTAMP:20260421T015856
CREATED:20230403T113017Z
LAST-MODIFIED:20251220T112158Z
UID:10000312-1681036200-1681043400@slheatons.org
SUMMARY:Heaton Mersey Village Garden Maintenance Session
DESCRIPTION:Come and join Heaton Mersey Village Gardeners for a task day at Heaton Mersey Village Garden! There is lots of information about this space in our blog. Contact us via info@slhheatons.org  for more information about what we do or feel free to drop by the Village Garden in person.  We still meet even during winter months\, although the task day is weather permitting.
URL:https://slheatons.org/event/heaton-mersey-village-garden-maintenance-session/2023-04-09/
CATEGORIES:Planting & Growing
ATTACH;FMTTYPE=image/jpeg:https://slheatons.org/wp-content/uploads/2023/03/Heaton-Mersey-Village-Garden-e1680260072820.jpg
END:VEVENT
END:VCALENDAR