BEGIN:VCALENDAR
VERSION:2.0
PRODID:-//Sustainable Living in the Heatons - ECPv6.15.17.1//NONSGML v1.0//EN
CALSCALE:GREGORIAN
METHOD:PUBLISH
X-WR-CALNAME:Sustainable Living in the Heatons
X-ORIGINAL-URL:https://slheatons.org
X-WR-CALDESC:Events for Sustainable Living in the Heatons
REFRESH-INTERVAL;VALUE=DURATION:PT1H
X-Robots-Tag:noindex
X-PUBLISHED-TTL:PT1H
BEGIN:VTIMEZONE
TZID:Europe/London
BEGIN:DAYLIGHT
TZOFFSETFROM:+0000
TZOFFSETTO:+0100
TZNAME:BST
DTSTART:20250330T010000
END:DAYLIGHT
BEGIN:STANDARD
TZOFFSETFROM:+0100
TZOFFSETTO:+0000
TZNAME:GMT
DTSTART:20251026T010000
END:STANDARD
BEGIN:DAYLIGHT
TZOFFSETFROM:+0000
TZOFFSETTO:+0100
TZNAME:BST
DTSTART:20260329T010000
END:DAYLIGHT
BEGIN:STANDARD
TZOFFSETFROM:+0100
TZOFFSETTO:+0000
TZNAME:GMT
DTSTART:20261025T010000
END:STANDARD
BEGIN:DAYLIGHT
TZOFFSETFROM:+0000
TZOFFSETTO:+0100
TZNAME:BST
DTSTART:20270328T010000
END:DAYLIGHT
BEGIN:STANDARD
TZOFFSETFROM:+0100
TZOFFSETTO:+0000
TZNAME:GMT
DTSTART:20271031T010000
END:STANDARD
END:VTIMEZONE
BEGIN:VTIMEZONE
TZID:UTC
BEGIN:STANDARD
TZOFFSETFROM:+0000
TZOFFSETTO:+0000
TZNAME:UTC
DTSTART:20250101T000000
END:STANDARD
END:VTIMEZONE
BEGIN:VEVENT
DTSTART;TZID=Europe/London:20260421T203000
DTEND;TZID=Europe/London:20260421T213000
DTSTAMP:20260420T090124
CREATED:20260223T210553Z
LAST-MODIFIED:20260223T210553Z
UID:10001370-1776803400-1776807000@slheatons.org
SUMMARY:Bat Walk at Dusk in Heaton Mersey
DESCRIPTION:This evening bat walk will give you the chance to hear and observe the bats using our special bat monitoring equipment. The insects will be out and the bats will be hunting! \nBook on our dedicated Ticket Tailor page!
URL:https://slheatons.org/event/bat-walk-at-dusk-in-heaton-mersey-2/
CATEGORIES:Wild Heatons & Biodiversity
ATTACH;FMTTYPE=image/jpeg:https://slheatons.org/wp-content/uploads/2023/04/Bats-Banner-scaled.jpg
END:VEVENT
BEGIN:VEVENT
DTSTART;TZID=Europe/London:20260424T203500
DTEND;TZID=Europe/London:20260424T213500
DTSTAMP:20260420T090124
CREATED:20260223T210625Z
LAST-MODIFIED:20260223T210625Z
UID:10001371-1777062900-1777066500@slheatons.org
SUMMARY:Bat Walk at Dusk in Heaton Mersey
DESCRIPTION:This evening bat walk will give you the chance to hear and observe the bats using our special bat monitoring equipment. The insects will be out and the bats will be hunting! \nBook on our dedicated Ticket Tailor page!
URL:https://slheatons.org/event/bat-walk-at-dusk-in-heaton-mersey-3/
CATEGORIES:Wild Heatons & Biodiversity
ATTACH;FMTTYPE=image/jpeg:https://slheatons.org/wp-content/uploads/2023/04/Bats-Banner-scaled.jpg
END:VEVENT
BEGIN:VEVENT
DTSTART;TZID=Europe/London:20260427T204000
DTEND;TZID=Europe/London:20260427T214500
DTSTAMP:20260420T090124
CREATED:20260223T210659Z
LAST-MODIFIED:20260223T210721Z
UID:10001372-1777322400-1777326300@slheatons.org
SUMMARY:Bat Walk at Dusk in Heaton Mersey
DESCRIPTION:This evening bat walk will give you the chance to hear and observe the bats using our special bat monitoring equipment. The insects will be out and the bats will be hunting! \nBook on our dedicated Ticket Tailor page!
URL:https://slheatons.org/event/bat-walk-at-dusk-in-heaton-mersey-4/
CATEGORIES:Wild Heatons & Biodiversity
ATTACH;FMTTYPE=image/jpeg:https://slheatons.org/wp-content/uploads/2023/04/Bats-Banner-scaled.jpg
END:VEVENT
BEGIN:VEVENT
DTSTART;TZID=Europe/London:20260429T204500
DTEND;TZID=Europe/London:20260429T214500
DTSTAMP:20260420T090124
CREATED:20260223T210756Z
LAST-MODIFIED:20260223T210756Z
UID:10001373-1777495500-1777499100@slheatons.org
SUMMARY:Bat Walk at Dusk in Heaton Mersey
DESCRIPTION:This evening bat walk will give you the chance to hear and observe the bats using our special bat monitoring equipment. The insects will be out and the bats will be hunting! \nBook on our dedicated Ticket Tailor page!
URL:https://slheatons.org/event/bat-walk-at-dusk-in-heaton-mersey-5/
CATEGORIES:Wild Heatons & Biodiversity
ATTACH;FMTTYPE=image/jpeg:https://slheatons.org/wp-content/uploads/2023/04/Bats-Banner-scaled.jpg
END:VEVENT
BEGIN:VEVENT
DTSTART;TZID=Europe/London:20260502T205000
DTEND;TZID=Europe/London:20260502T220000
DTSTAMP:20260420T090124
CREATED:20260223T210828Z
LAST-MODIFIED:20260223T210828Z
UID:10001374-1777755000-1777759200@slheatons.org
SUMMARY:Bat Walk at Dusk in Heaton Mersey
DESCRIPTION:This evening bat walk will give you the chance to hear and observe the bats using our special bat monitoring equipment. The insects will be out and the bats will be hunting! \nBook on our dedicated Ticket Tailor page!
URL:https://slheatons.org/event/bat-walk-at-dusk-in-heaton-mersey-6/
CATEGORIES:Wild Heatons & Biodiversity
ATTACH;FMTTYPE=image/jpeg:https://slheatons.org/wp-content/uploads/2023/04/Bats-Banner-scaled.jpg
END:VEVENT
BEGIN:VEVENT
DTSTART;TZID=Europe/London:20260504T205500
DTEND;TZID=Europe/London:20260504T220000
DTSTAMP:20260420T090124
CREATED:20260223T210854Z
LAST-MODIFIED:20260223T210854Z
UID:10001375-1777928100-1777932000@slheatons.org
SUMMARY:Bat Walk at Dusk in Heaton Mersey
DESCRIPTION:This evening bat walk will give you the chance to hear and observe the bats using our special bat monitoring equipment. The insects will be out and the bats will be hunting! \nBook on our dedicated Ticket Tailor page!
URL:https://slheatons.org/event/bat-walk-at-dusk-in-heaton-mersey-7/
CATEGORIES:Wild Heatons & Biodiversity
ATTACH;FMTTYPE=image/jpeg:https://slheatons.org/wp-content/uploads/2023/04/Bats-Banner-scaled.jpg
END:VEVENT
BEGIN:VEVENT
DTSTART;TZID=Europe/London:20260510T210000
DTEND;TZID=Europe/London:20260510T221500
DTSTAMP:20260420T090124
CREATED:20260223T210932Z
LAST-MODIFIED:20260223T210932Z
UID:10001376-1778446800-1778451300@slheatons.org
SUMMARY:Bat Walk at Dusk in Heaton Mersey
DESCRIPTION:This evening bat walk will give you the chance to hear and observe the bats using our special bat monitoring equipment. The insects will be out and the bats will be hunting! \nBook on our dedicated Ticket Tailor page!
URL:https://slheatons.org/event/bat-walk-at-dusk-in-heaton-mersey-8/
CATEGORIES:Wild Heatons & Biodiversity
ATTACH;FMTTYPE=image/jpeg:https://slheatons.org/wp-content/uploads/2023/04/Bats-Banner-scaled.jpg
END:VEVENT
BEGIN:VEVENT
DTSTART;TZID=Europe/London:20260513T210500
DTEND;TZID=Europe/London:20260513T221500
DTSTAMP:20260420T090124
CREATED:20260223T210956Z
LAST-MODIFIED:20260223T210956Z
UID:10001377-1778706300-1778710500@slheatons.org
SUMMARY:Bat Walk at Dusk in Heaton Mersey
DESCRIPTION:This evening bat walk will give you the chance to hear and observe the bats using our special bat monitoring equipment. The insects will be out and the bats will be hunting! \nBook on our dedicated Ticket Tailor page!
URL:https://slheatons.org/event/bat-walk-at-dusk-in-heaton-mersey-9/
CATEGORIES:Wild Heatons & Biodiversity
ATTACH;FMTTYPE=image/jpeg:https://slheatons.org/wp-content/uploads/2023/04/Bats-Banner-scaled.jpg
END:VEVENT
BEGIN:VEVENT
DTSTART;TZID=UTC:20260516T103000
DTEND;TZID=UTC:20260516T123000
DTSTAMP:20260420T090124
CREATED:20240106T182216Z
LAST-MODIFIED:20251202T211146Z
UID:10000896-1778927400-1778934600@slheatons.org
SUMMARY:Friends of Darley Street Task Day
DESCRIPTION:Darley Street is a beautiful community garden that can be enjoyed by all. \nOur Friends group meets on the 3rd Saturday of the month at 10:30 a.m. \nDarley Street is situated at in the heart of the Heaton Norris conservation area\, at the junction of Green Lane and Alexandra Road close to the Nursery pub.
URL:https://slheatons.org/event/friends-of-darley-street-task-day/2026-05-16/
LOCATION:Darly Street\, Heaton Norris
CATEGORIES:Meeting,Planting & Growing,Wild Heatons & Biodiversity
ATTACH;FMTTYPE=image/jpeg:https://slheatons.org/wp-content/uploads/2024/01/September-2022-full-autumn-colour.jpg
END:VEVENT
BEGIN:VEVENT
DTSTART;TZID=UTC:20260620T103000
DTEND;TZID=UTC:20260620T123000
DTSTAMP:20260420T090124
CREATED:20240106T182216Z
LAST-MODIFIED:20251202T211146Z
UID:10000897-1781951400-1781958600@slheatons.org
SUMMARY:Friends of Darley Street Task Day
DESCRIPTION:Darley Street is a beautiful community garden that can be enjoyed by all. \nOur Friends group meets on the 3rd Saturday of the month at 10:30 a.m. \nDarley Street is situated at in the heart of the Heaton Norris conservation area\, at the junction of Green Lane and Alexandra Road close to the Nursery pub.
URL:https://slheatons.org/event/friends-of-darley-street-task-day/2026-06-20/
LOCATION:Darly Street\, Heaton Norris
CATEGORIES:Meeting,Planting & Growing,Wild Heatons & Biodiversity
ATTACH;FMTTYPE=image/jpeg:https://slheatons.org/wp-content/uploads/2024/01/September-2022-full-autumn-colour.jpg
END:VEVENT
BEGIN:VEVENT
DTSTART;TZID=UTC:20260718T103000
DTEND;TZID=UTC:20260718T123000
DTSTAMP:20260420T090124
CREATED:20240106T182216Z
LAST-MODIFIED:20251202T211146Z
UID:10000898-1784370600-1784377800@slheatons.org
SUMMARY:Friends of Darley Street Task Day
DESCRIPTION:Darley Street is a beautiful community garden that can be enjoyed by all. \nOur Friends group meets on the 3rd Saturday of the month at 10:30 a.m. \nDarley Street is situated at in the heart of the Heaton Norris conservation area\, at the junction of Green Lane and Alexandra Road close to the Nursery pub.
URL:https://slheatons.org/event/friends-of-darley-street-task-day/2026-07-18/
LOCATION:Darly Street\, Heaton Norris
CATEGORIES:Meeting,Planting & Growing,Wild Heatons & Biodiversity
ATTACH;FMTTYPE=image/jpeg:https://slheatons.org/wp-content/uploads/2024/01/September-2022-full-autumn-colour.jpg
END:VEVENT
BEGIN:VEVENT
DTSTART;TZID=UTC:20260815T103000
DTEND;TZID=UTC:20260815T123000
DTSTAMP:20260420T090124
CREATED:20240106T182216Z
LAST-MODIFIED:20251202T211146Z
UID:10000899-1786789800-1786797000@slheatons.org
SUMMARY:Friends of Darley Street Task Day
DESCRIPTION:Darley Street is a beautiful community garden that can be enjoyed by all. \nOur Friends group meets on the 3rd Saturday of the month at 10:30 a.m. \nDarley Street is situated at in the heart of the Heaton Norris conservation area\, at the junction of Green Lane and Alexandra Road close to the Nursery pub.
URL:https://slheatons.org/event/friends-of-darley-street-task-day/2026-08-15/
LOCATION:Darly Street\, Heaton Norris
CATEGORIES:Meeting,Planting & Growing,Wild Heatons & Biodiversity
ATTACH;FMTTYPE=image/jpeg:https://slheatons.org/wp-content/uploads/2024/01/September-2022-full-autumn-colour.jpg
END:VEVENT
BEGIN:VEVENT
DTSTART;TZID=UTC:20260919T103000
DTEND;TZID=UTC:20260919T123000
DTSTAMP:20260420T090124
CREATED:20240106T182216Z
LAST-MODIFIED:20251202T211146Z
UID:10000900-1789813800-1789821000@slheatons.org
SUMMARY:Friends of Darley Street Task Day
DESCRIPTION:Darley Street is a beautiful community garden that can be enjoyed by all. \nOur Friends group meets on the 3rd Saturday of the month at 10:30 a.m. \nDarley Street is situated at in the heart of the Heaton Norris conservation area\, at the junction of Green Lane and Alexandra Road close to the Nursery pub.
URL:https://slheatons.org/event/friends-of-darley-street-task-day/2026-09-19/
LOCATION:Darly Street\, Heaton Norris
CATEGORIES:Meeting,Planting & Growing,Wild Heatons & Biodiversity
ATTACH;FMTTYPE=image/jpeg:https://slheatons.org/wp-content/uploads/2024/01/September-2022-full-autumn-colour.jpg
END:VEVENT
BEGIN:VEVENT
DTSTART;TZID=UTC:20261017T103000
DTEND;TZID=UTC:20261017T123000
DTSTAMP:20260420T090124
CREATED:20240106T182216Z
LAST-MODIFIED:20251202T211146Z
UID:10000901-1792233000-1792240200@slheatons.org
SUMMARY:Friends of Darley Street Task Day
DESCRIPTION:Darley Street is a beautiful community garden that can be enjoyed by all. \nOur Friends group meets on the 3rd Saturday of the month at 10:30 a.m. \nDarley Street is situated at in the heart of the Heaton Norris conservation area\, at the junction of Green Lane and Alexandra Road close to the Nursery pub.
URL:https://slheatons.org/event/friends-of-darley-street-task-day/2026-10-17/
LOCATION:Darly Street\, Heaton Norris
CATEGORIES:Meeting,Planting & Growing,Wild Heatons & Biodiversity
ATTACH;FMTTYPE=image/jpeg:https://slheatons.org/wp-content/uploads/2024/01/September-2022-full-autumn-colour.jpg
END:VEVENT
BEGIN:VEVENT
DTSTART;TZID=UTC:20261121T103000
DTEND;TZID=UTC:20261121T123000
DTSTAMP:20260420T090124
CREATED:20240106T182216Z
LAST-MODIFIED:20251202T211146Z
UID:10000902-1795257000-1795264200@slheatons.org
SUMMARY:Friends of Darley Street Task Day
DESCRIPTION:Darley Street is a beautiful community garden that can be enjoyed by all. \nOur Friends group meets on the 3rd Saturday of the month at 10:30 a.m. \nDarley Street is situated at in the heart of the Heaton Norris conservation area\, at the junction of Green Lane and Alexandra Road close to the Nursery pub.
URL:https://slheatons.org/event/friends-of-darley-street-task-day/2026-11-21/
LOCATION:Darly Street\, Heaton Norris
CATEGORIES:Meeting,Planting & Growing,Wild Heatons & Biodiversity
ATTACH;FMTTYPE=image/jpeg:https://slheatons.org/wp-content/uploads/2024/01/September-2022-full-autumn-colour.jpg
END:VEVENT
BEGIN:VEVENT
DTSTART;TZID=UTC:20261219T103000
DTEND;TZID=UTC:20261219T123000
DTSTAMP:20260420T090124
CREATED:20240106T182216Z
LAST-MODIFIED:20251202T211146Z
UID:10000903-1797676200-1797683400@slheatons.org
SUMMARY:Friends of Darley Street Task Day
DESCRIPTION:Darley Street is a beautiful community garden that can be enjoyed by all. \nOur Friends group meets on the 3rd Saturday of the month at 10:30 a.m. \nDarley Street is situated at in the heart of the Heaton Norris conservation area\, at the junction of Green Lane and Alexandra Road close to the Nursery pub.
URL:https://slheatons.org/event/friends-of-darley-street-task-day/2026-12-19/
LOCATION:Darly Street\, Heaton Norris
CATEGORIES:Meeting,Planting & Growing,Wild Heatons & Biodiversity
ATTACH;FMTTYPE=image/jpeg:https://slheatons.org/wp-content/uploads/2024/01/September-2022-full-autumn-colour.jpg
END:VEVENT
BEGIN:VEVENT
DTSTART;TZID=UTC:20270116T103000
DTEND;TZID=UTC:20270116T123000
DTSTAMP:20260420T090124
CREATED:20240106T182216Z
LAST-MODIFIED:20251202T211146Z
UID:10000904-1800095400-1800102600@slheatons.org
SUMMARY:Friends of Darley Street Task Day
DESCRIPTION:Darley Street is a beautiful community garden that can be enjoyed by all. \nOur Friends group meets on the 3rd Saturday of the month at 10:30 a.m. \nDarley Street is situated at in the heart of the Heaton Norris conservation area\, at the junction of Green Lane and Alexandra Road close to the Nursery pub.
URL:https://slheatons.org/event/friends-of-darley-street-task-day/2027-01-16/
LOCATION:Darly Street\, Heaton Norris
CATEGORIES:Meeting,Planting & Growing,Wild Heatons & Biodiversity
ATTACH;FMTTYPE=image/jpeg:https://slheatons.org/wp-content/uploads/2024/01/September-2022-full-autumn-colour.jpg
END:VEVENT
BEGIN:VEVENT
DTSTART;TZID=UTC:20270220T103000
DTEND;TZID=UTC:20270220T123000
DTSTAMP:20260420T090124
CREATED:20240106T182216Z
LAST-MODIFIED:20251202T211146Z
UID:10000905-1803119400-1803126600@slheatons.org
SUMMARY:Friends of Darley Street Task Day
DESCRIPTION:Darley Street is a beautiful community garden that can be enjoyed by all. \nOur Friends group meets on the 3rd Saturday of the month at 10:30 a.m. \nDarley Street is situated at in the heart of the Heaton Norris conservation area\, at the junction of Green Lane and Alexandra Road close to the Nursery pub.
URL:https://slheatons.org/event/friends-of-darley-street-task-day/2027-02-20/
LOCATION:Darly Street\, Heaton Norris
CATEGORIES:Meeting,Planting & Growing,Wild Heatons & Biodiversity
ATTACH;FMTTYPE=image/jpeg:https://slheatons.org/wp-content/uploads/2024/01/September-2022-full-autumn-colour.jpg
END:VEVENT
BEGIN:VEVENT
DTSTART;TZID=UTC:20270320T103000
DTEND;TZID=UTC:20270320T123000
DTSTAMP:20260420T090124
CREATED:20240106T182216Z
LAST-MODIFIED:20251202T211146Z
UID:10000906-1805538600-1805545800@slheatons.org
SUMMARY:Friends of Darley Street Task Day
DESCRIPTION:Darley Street is a beautiful community garden that can be enjoyed by all. \nOur Friends group meets on the 3rd Saturday of the month at 10:30 a.m. \nDarley Street is situated at in the heart of the Heaton Norris conservation area\, at the junction of Green Lane and Alexandra Road close to the Nursery pub.
URL:https://slheatons.org/event/friends-of-darley-street-task-day/2027-03-20/
LOCATION:Darly Street\, Heaton Norris
CATEGORIES:Meeting,Planting & Growing,Wild Heatons & Biodiversity
ATTACH;FMTTYPE=image/jpeg:https://slheatons.org/wp-content/uploads/2024/01/September-2022-full-autumn-colour.jpg
END:VEVENT
BEGIN:VEVENT
DTSTART;TZID=UTC:20270417T103000
DTEND;TZID=UTC:20270417T123000
DTSTAMP:20260420T090124
CREATED:20240106T182216Z
LAST-MODIFIED:20251202T211146Z
UID:10000907-1807957800-1807965000@slheatons.org
SUMMARY:Friends of Darley Street Task Day
DESCRIPTION:Darley Street is a beautiful community garden that can be enjoyed by all. \nOur Friends group meets on the 3rd Saturday of the month at 10:30 a.m. \nDarley Street is situated at in the heart of the Heaton Norris conservation area\, at the junction of Green Lane and Alexandra Road close to the Nursery pub.
URL:https://slheatons.org/event/friends-of-darley-street-task-day/2027-04-17/
LOCATION:Darly Street\, Heaton Norris
CATEGORIES:Meeting,Planting & Growing,Wild Heatons & Biodiversity
ATTACH;FMTTYPE=image/jpeg:https://slheatons.org/wp-content/uploads/2024/01/September-2022-full-autumn-colour.jpg
END:VEVENT
BEGIN:VEVENT
DTSTART;TZID=UTC:20270515T103000
DTEND;TZID=UTC:20270515T123000
DTSTAMP:20260420T090124
CREATED:20240106T182216Z
LAST-MODIFIED:20251202T211146Z
UID:10000908-1810377000-1810384200@slheatons.org
SUMMARY:Friends of Darley Street Task Day
DESCRIPTION:Darley Street is a beautiful community garden that can be enjoyed by all. \nOur Friends group meets on the 3rd Saturday of the month at 10:30 a.m. \nDarley Street is situated at in the heart of the Heaton Norris conservation area\, at the junction of Green Lane and Alexandra Road close to the Nursery pub.
URL:https://slheatons.org/event/friends-of-darley-street-task-day/2027-05-15/
LOCATION:Darly Street\, Heaton Norris
CATEGORIES:Meeting,Planting & Growing,Wild Heatons & Biodiversity
ATTACH;FMTTYPE=image/jpeg:https://slheatons.org/wp-content/uploads/2024/01/September-2022-full-autumn-colour.jpg
END:VEVENT
BEGIN:VEVENT
DTSTART;TZID=UTC:20270619T103000
DTEND;TZID=UTC:20270619T123000
DTSTAMP:20260420T090124
CREATED:20240106T182216Z
LAST-MODIFIED:20251202T211146Z
UID:10000909-1813401000-1813408200@slheatons.org
SUMMARY:Friends of Darley Street Task Day
DESCRIPTION:Darley Street is a beautiful community garden that can be enjoyed by all. \nOur Friends group meets on the 3rd Saturday of the month at 10:30 a.m. \nDarley Street is situated at in the heart of the Heaton Norris conservation area\, at the junction of Green Lane and Alexandra Road close to the Nursery pub.
URL:https://slheatons.org/event/friends-of-darley-street-task-day/2027-06-19/
LOCATION:Darly Street\, Heaton Norris
CATEGORIES:Meeting,Planting & Growing,Wild Heatons & Biodiversity
ATTACH;FMTTYPE=image/jpeg:https://slheatons.org/wp-content/uploads/2024/01/September-2022-full-autumn-colour.jpg
END:VEVENT
BEGIN:VEVENT
DTSTART;TZID=UTC:20270717T103000
DTEND;TZID=UTC:20270717T123000
DTSTAMP:20260420T090124
CREATED:20240106T182216Z
LAST-MODIFIED:20251202T211146Z
UID:10000910-1815820200-1815827400@slheatons.org
SUMMARY:Friends of Darley Street Task Day
DESCRIPTION:Darley Street is a beautiful community garden that can be enjoyed by all. \nOur Friends group meets on the 3rd Saturday of the month at 10:30 a.m. \nDarley Street is situated at in the heart of the Heaton Norris conservation area\, at the junction of Green Lane and Alexandra Road close to the Nursery pub.
URL:https://slheatons.org/event/friends-of-darley-street-task-day/2027-07-17/
LOCATION:Darly Street\, Heaton Norris
CATEGORIES:Meeting,Planting & Growing,Wild Heatons & Biodiversity
ATTACH;FMTTYPE=image/jpeg:https://slheatons.org/wp-content/uploads/2024/01/September-2022-full-autumn-colour.jpg
END:VEVENT
BEGIN:VEVENT
DTSTART;TZID=UTC:20270821T103000
DTEND;TZID=UTC:20270821T123000
DTSTAMP:20260420T090124
CREATED:20240106T182216Z
LAST-MODIFIED:20251202T211146Z
UID:10000911-1818844200-1818851400@slheatons.org
SUMMARY:Friends of Darley Street Task Day
DESCRIPTION:Darley Street is a beautiful community garden that can be enjoyed by all. \nOur Friends group meets on the 3rd Saturday of the month at 10:30 a.m. \nDarley Street is situated at in the heart of the Heaton Norris conservation area\, at the junction of Green Lane and Alexandra Road close to the Nursery pub.
URL:https://slheatons.org/event/friends-of-darley-street-task-day/2027-08-21/
LOCATION:Darly Street\, Heaton Norris
CATEGORIES:Meeting,Planting & Growing,Wild Heatons & Biodiversity
ATTACH;FMTTYPE=image/jpeg:https://slheatons.org/wp-content/uploads/2024/01/September-2022-full-autumn-colour.jpg
END:VEVENT
BEGIN:VEVENT
DTSTART;TZID=UTC:20270918T103000
DTEND;TZID=UTC:20270918T123000
DTSTAMP:20260420T090124
CREATED:20240106T182216Z
LAST-MODIFIED:20251202T211146Z
UID:10000912-1821263400-1821270600@slheatons.org
SUMMARY:Friends of Darley Street Task Day
DESCRIPTION:Darley Street is a beautiful community garden that can be enjoyed by all. \nOur Friends group meets on the 3rd Saturday of the month at 10:30 a.m. \nDarley Street is situated at in the heart of the Heaton Norris conservation area\, at the junction of Green Lane and Alexandra Road close to the Nursery pub.
URL:https://slheatons.org/event/friends-of-darley-street-task-day/2027-09-18/
LOCATION:Darly Street\, Heaton Norris
CATEGORIES:Meeting,Planting & Growing,Wild Heatons & Biodiversity
ATTACH;FMTTYPE=image/jpeg:https://slheatons.org/wp-content/uploads/2024/01/September-2022-full-autumn-colour.jpg
END:VEVENT
BEGIN:VEVENT
DTSTART;TZID=UTC:20271016T103000
DTEND;TZID=UTC:20271016T123000
DTSTAMP:20260420T090124
CREATED:20240106T182216Z
LAST-MODIFIED:20251202T211146Z
UID:10000913-1823682600-1823689800@slheatons.org
SUMMARY:Friends of Darley Street Task Day
DESCRIPTION:Darley Street is a beautiful community garden that can be enjoyed by all. \nOur Friends group meets on the 3rd Saturday of the month at 10:30 a.m. \nDarley Street is situated at in the heart of the Heaton Norris conservation area\, at the junction of Green Lane and Alexandra Road close to the Nursery pub.
URL:https://slheatons.org/event/friends-of-darley-street-task-day/2027-10-16/
LOCATION:Darly Street\, Heaton Norris
CATEGORIES:Meeting,Planting & Growing,Wild Heatons & Biodiversity
ATTACH;FMTTYPE=image/jpeg:https://slheatons.org/wp-content/uploads/2024/01/September-2022-full-autumn-colour.jpg
END:VEVENT
BEGIN:VEVENT
DTSTART;TZID=UTC:20271120T103000
DTEND;TZID=UTC:20271120T123000
DTSTAMP:20260420T090124
CREATED:20240106T182216Z
LAST-MODIFIED:20251202T211146Z
UID:10000914-1826706600-1826713800@slheatons.org
SUMMARY:Friends of Darley Street Task Day
DESCRIPTION:Darley Street is a beautiful community garden that can be enjoyed by all. \nOur Friends group meets on the 3rd Saturday of the month at 10:30 a.m. \nDarley Street is situated at in the heart of the Heaton Norris conservation area\, at the junction of Green Lane and Alexandra Road close to the Nursery pub.
URL:https://slheatons.org/event/friends-of-darley-street-task-day/2027-11-20/
LOCATION:Darly Street\, Heaton Norris
CATEGORIES:Meeting,Planting & Growing,Wild Heatons & Biodiversity
ATTACH;FMTTYPE=image/jpeg:https://slheatons.org/wp-content/uploads/2024/01/September-2022-full-autumn-colour.jpg
END:VEVENT
BEGIN:VEVENT
DTSTART;TZID=UTC:20271218T103000
DTEND;TZID=UTC:20271218T123000
DTSTAMP:20260420T090124
CREATED:20240106T182216Z
LAST-MODIFIED:20251202T211146Z
UID:10000915-1829125800-1829133000@slheatons.org
SUMMARY:Friends of Darley Street Task Day
DESCRIPTION:Darley Street is a beautiful community garden that can be enjoyed by all. \nOur Friends group meets on the 3rd Saturday of the month at 10:30 a.m. \nDarley Street is situated at in the heart of the Heaton Norris conservation area\, at the junction of Green Lane and Alexandra Road close to the Nursery pub.
URL:https://slheatons.org/event/friends-of-darley-street-task-day/2027-12-18/
LOCATION:Darly Street\, Heaton Norris
CATEGORIES:Meeting,Planting & Growing,Wild Heatons & Biodiversity
ATTACH;FMTTYPE=image/jpeg:https://slheatons.org/wp-content/uploads/2024/01/September-2022-full-autumn-colour.jpg
END:VEVENT
BEGIN:VEVENT
DTSTART;TZID=UTC:20280115T103000
DTEND;TZID=UTC:20280115T123000
DTSTAMP:20260420T090124
CREATED:20240106T182216Z
LAST-MODIFIED:20251202T211146Z
UID:10000916-1831545000-1831552200@slheatons.org
SUMMARY:Friends of Darley Street Task Day
DESCRIPTION:Darley Street is a beautiful community garden that can be enjoyed by all. \nOur Friends group meets on the 3rd Saturday of the month at 10:30 a.m. \nDarley Street is situated at in the heart of the Heaton Norris conservation area\, at the junction of Green Lane and Alexandra Road close to the Nursery pub.
URL:https://slheatons.org/event/friends-of-darley-street-task-day/2028-01-15/
LOCATION:Darly Street\, Heaton Norris
CATEGORIES:Meeting,Planting & Growing,Wild Heatons & Biodiversity
ATTACH;FMTTYPE=image/jpeg:https://slheatons.org/wp-content/uploads/2024/01/September-2022-full-autumn-colour.jpg
END:VEVENT
BEGIN:VEVENT
DTSTART;TZID=UTC:20280219T103000
DTEND;TZID=UTC:20280219T123000
DTSTAMP:20260420T090124
CREATED:20240106T182216Z
LAST-MODIFIED:20251202T211146Z
UID:10000917-1834569000-1834576200@slheatons.org
SUMMARY:Friends of Darley Street Task Day
DESCRIPTION:Darley Street is a beautiful community garden that can be enjoyed by all. \nOur Friends group meets on the 3rd Saturday of the month at 10:30 a.m. \nDarley Street is situated at in the heart of the Heaton Norris conservation area\, at the junction of Green Lane and Alexandra Road close to the Nursery pub.
URL:https://slheatons.org/event/friends-of-darley-street-task-day/2028-02-19/
LOCATION:Darly Street\, Heaton Norris
CATEGORIES:Meeting,Planting & Growing,Wild Heatons & Biodiversity
ATTACH;FMTTYPE=image/jpeg:https://slheatons.org/wp-content/uploads/2024/01/September-2022-full-autumn-colour.jpg
END:VEVENT
END:VCALENDAR