BEGIN:VCALENDAR
VERSION:2.0
PRODID:-//Sustainable Living in the Heatons - ECPv6.15.17.1//NONSGML v1.0//EN
CALSCALE:GREGORIAN
METHOD:PUBLISH
X-WR-CALNAME:Sustainable Living in the Heatons
X-ORIGINAL-URL:https://slheatons.org
X-WR-CALDESC:Events for Sustainable Living in the Heatons
REFRESH-INTERVAL;VALUE=DURATION:PT1H
X-Robots-Tag:noindex
X-PUBLISHED-TTL:PT1H
BEGIN:VTIMEZONE
TZID:UTC
BEGIN:STANDARD
TZOFFSETFROM:+0000
TZOFFSETTO:+0000
TZNAME:UTC
DTSTART:20220101T000000
END:STANDARD
END:VTIMEZONE
BEGIN:VEVENT
DTSTART;TZID=UTC:20231202T103000
DTEND;TZID=UTC:20231202T120000
DTSTAMP:20260423T101939
CREATED:20230330T153849Z
LAST-MODIFIED:20250902T180944Z
UID:10000011-1701513000-1701518400@slheatons.org
SUMMARY:Monthly Meeting
DESCRIPTION:The SLH monthly meetings are on the first Saturday of the month from 10.30am to 12.00 noon.  Our meetings are held at the Patio Room\, Heaton Moor United Church\, Stanley Rd SK4 4HL. The room has direct access from the car park and has a shared kitchen and toilets very close to the room. Hot drinks will be provided for everyone. \nEveryone is welcome to our meeting. Contact info@slheatons.org if you have questions. We use the time to discuss and plan our activities\, and have occasional guest speakers.  Everyone is welcome. Do come and meet us!
URL:https://slheatons.org/event/monthly-meeting/2023-12-02/
LOCATION:Patio Room\, Heaton Moor United Church\, Stanley Rd SK4 4HL\, Patio Room\, Heaton Moor United Church\, Stanley Rd\, SK4 4HL
CATEGORIES:Meeting
ATTACH;FMTTYPE=image/jpeg:https://slheatons.org/wp-content/uploads/2023/03/Monthly-Meeting.jpg
END:VEVENT
BEGIN:VEVENT
DTSTART;TZID=UTC:20231210T100000
DTEND;TZID=UTC:20231210T120000
DTSTAMP:20260423T101939
CREATED:20231119T183924Z
LAST-MODIFIED:20231119T183924Z
UID:10000867-1702202400-1702209600@slheatons.org
SUMMARY:Briars Mount Task Day (Time TBC)
DESCRIPTION:We are holding a task day on Briars Mount on the corner of Masefield Drive\, continuing to plant more spring bulbs under the big tree. Why not come along and join us? It will be good fun and we will provide some snacks (we might even sneak in a mince pie!). We will have some tools available but feel free to bring gloves and a trowel or bulb planter\, if you have them.
URL:https://slheatons.org/event/briars-mount-task-day-time-tbc/
CATEGORIES:Planting & Growing
ATTACH;FMTTYPE=image/jpeg:https://slheatons.org/wp-content/uploads/2023/11/crocuses-crocus-bulbs-onions-4001781.jpg
END:VEVENT
BEGIN:VEVENT
DTSTART;TZID=UTC:20231210T103000
DTEND;TZID=UTC:20231210T123000
DTSTAMP:20260423T101939
CREATED:20230403T113017Z
LAST-MODIFIED:20251220T112158Z
UID:10001280-1702204200-1702211400@slheatons.org
SUMMARY:Heaton Mersey Village Garden Maintenance Session
DESCRIPTION:Come and join Heaton Mersey Village Gardeners for a task day at Heaton Mersey Village Garden! There is lots of information about this space in our blog. Contact us via info@slhheatons.org  for more information about what we do or feel free to drop by the Village Garden in person.  We still meet even during winter months\, although the task day is weather permitting.
URL:https://slheatons.org/event/heaton-mersey-village-garden-maintenance-session/2023-12-10/
CATEGORIES:Planting & Growing
ATTACH;FMTTYPE=image/jpeg:https://slheatons.org/wp-content/uploads/2023/03/Heaton-Mersey-Village-Garden-e1680260072820.jpg
END:VEVENT
BEGIN:VEVENT
DTSTART;TZID=UTC:20231210T103000
DTEND;TZID=UTC:20231210T123000
DTSTAMP:20260423T101939
CREATED:20231114T205801Z
LAST-MODIFIED:20231114T212450Z
UID:10000320-1702204200-1702211400@slheatons.org
SUMMARY:Heaton Mersey Village Garden Maintenance Session
DESCRIPTION:Come and join Heaton Mersey Village Gardeners for a task day at Heaton Mersey Village Garden! There is lots of information about this space in our blog. Contact us via info@slhheatons.org  for more information about what we do or feel free to drop by the Village Garden in person.  We still meet even during winter months\, although the task day is weather permitting.
URL:https://slheatons.org/event/heaton-mersey-village-garden-maintenance-session-4-2/
CATEGORIES:Planting & Growing
ATTACH;FMTTYPE=image/jpeg:https://slheatons.org/wp-content/uploads/2023/03/Heaton-Mersey-Village-Garden-e1680260072820.jpg
END:VEVENT
BEGIN:VEVENT
DTSTART;TZID=UTC:20231216T100000
DTEND;TZID=UTC:20231216T120000
DTSTAMP:20260423T101939
CREATED:20230702T181806Z
LAST-MODIFIED:20251013T191716Z
UID:10000502-1702720800-1702728000@slheatons.org
SUMMARY:Heatons Repair Café
DESCRIPTION:Join volunteers from across the Heatons for our new repair café! \n\nHow does it work? \n\n\n\nRepair cafés are run by volunteers — people who have specific skills that they would like to share with the local community. These skills may include sewing or repairs to furniture/wood\, bikes\, garden tools and small electrical items. There is also a need for volunteers with “meet and greet” skills for managing the tea\, coffee and cake! Repair cafés operate once a month for a period of two hours. \n\n\n\nIs there a charge? \n\n\n\nNo\, the repairs are free\, although donations are welcome to help build the stock of tools and materials. \nDo you know anyone who might be interested in volunteering? Repairs will include household objects\, bicycles\, clothing\, mechanical devices and woodworking repairs.  Any skill you may have to repair things\, whatever it is\, we would love to hear about it. If you can help or would like to know\, more email info@slheatons.org
URL:https://slheatons.org/event/heatons-repair-cafe/2023-12-16/
LOCATION:St Paul’s\, St Paul's Church\, St Paul's Road\, Stockport\, Greater Manchester\, SK4 4RY\, United Kingdom
CATEGORIES:Low Carbon Heatons
ATTACH;FMTTYPE=image/jpeg:https://slheatons.org/wp-content/uploads/2023/10/Repair-cafe-leaflet.jpg
END:VEVENT
BEGIN:VEVENT
DTSTART;TZID=UTC:20231229T074500
DTEND;TZID=UTC:20231229T090000
DTSTAMP:20260423T101939
CREATED:20230330T160033Z
LAST-MODIFIED:20251220T112517Z
UID:10000968-1703835900-1703840400@slheatons.org
SUMMARY:Bike Friday
DESCRIPTION:Join members of the SLH team who help to lead this great event from Manchester Friends of the Earth. \nBike Friday is exactly what it says on the tin: A bike ride on the last Friday of every month. We set off from Heaton Chapel train station at 7.45am and lead on a route heading into Manchester City Centre. \nThe ride is on quiet routes and are suitable for everyone — from the regular commuter\, to the first timer wanting to try a new way of getting into work.
URL:https://slheatons.org/event/bike-friday/2023-12-29/
CATEGORIES:Cycling
ATTACH;FMTTYPE=image/jpeg:https://slheatons.org/wp-content/uploads/2023/03/P1270755crco-e1680195690586.jpg
END:VEVENT
END:VCALENDAR