BEGIN:VCALENDAR
VERSION:2.0
PRODID:-//Sustainable Living in the Heatons - ECPv6.15.17.1//NONSGML v1.0//EN
CALSCALE:GREGORIAN
METHOD:PUBLISH
X-ORIGINAL-URL:https://slheatons.org
X-WR-CALDESC:Events for Sustainable Living in the Heatons
REFRESH-INTERVAL;VALUE=DURATION:PT1H
X-Robots-Tag:noindex
X-PUBLISHED-TTL:PT1H
BEGIN:VTIMEZONE
TZID:Europe/London
BEGIN:DAYLIGHT
TZOFFSETFROM:+0000
TZOFFSETTO:+0100
TZNAME:BST
DTSTART:20240331T010000
END:DAYLIGHT
BEGIN:STANDARD
TZOFFSETFROM:+0100
TZOFFSETTO:+0000
TZNAME:GMT
DTSTART:20241027T010000
END:STANDARD
BEGIN:DAYLIGHT
TZOFFSETFROM:+0000
TZOFFSETTO:+0100
TZNAME:BST
DTSTART:20250330T010000
END:DAYLIGHT
BEGIN:STANDARD
TZOFFSETFROM:+0100
TZOFFSETTO:+0000
TZNAME:GMT
DTSTART:20251026T010000
END:STANDARD
BEGIN:DAYLIGHT
TZOFFSETFROM:+0000
TZOFFSETTO:+0100
TZNAME:BST
DTSTART:20260329T010000
END:DAYLIGHT
BEGIN:STANDARD
TZOFFSETFROM:+0100
TZOFFSETTO:+0000
TZNAME:GMT
DTSTART:20261025T010000
END:STANDARD
END:VTIMEZONE
BEGIN:VEVENT
DTSTART;TZID=Europe/London:20251123T100000
DTEND;TZID=Europe/London:20251123T120000
DTSTAMP:20260420T050502
CREATED:20251013T190943Z
LAST-MODIFIED:20251013T191011Z
UID:10001262-1763892000-1763899200@slheatons.org
SUMMARY:Spring Bulb Planting
DESCRIPTION:Join Sustainable Living in the Heatons for our Autumn 2025 spring bulb planting events.\nThis event will be at Heaton Mersey Common (accessing via Mersey Road SK4 3BJ) on Sunday 23 November between 10am and 12pm. \nThis will be a fun-filled event so please do bring all the family\, including kids! Wear\nappropriate clothing and shoes for the weather. \nWe will provide some tools but if you have garden gloves and a small trowel\, please do bring\nthese along. \nWe hope to see the Heatons very bright and colourful in Spring 2026!
URL:https://slheatons.org/event/autumn-2025-spring-bulb-planting/
LOCATION:Heaton Mersey Common\, SK4 3BJ
CATEGORIES:Meeting,Planting & Growing,Wild Heatons & Biodiversity
ATTACH;FMTTYPE=image/jpeg:https://slheatons.org/wp-content/uploads/2024/03/1000029482-scaled.jpg
END:VEVENT
END:VCALENDAR