BEGIN:VCALENDAR
VERSION:2.0
PRODID:-//Sustainable Living in the Heatons - ECPv6.15.17.1//NONSGML v1.0//EN
CALSCALE:GREGORIAN
METHOD:PUBLISH
X-WR-CALNAME:Sustainable Living in the Heatons
X-ORIGINAL-URL:https://slheatons.org
X-WR-CALDESC:Events for Sustainable Living in the Heatons
REFRESH-INTERVAL;VALUE=DURATION:PT1H
X-Robots-Tag:noindex
X-PUBLISHED-TTL:PT1H
BEGIN:VTIMEZONE
TZID:UTC
BEGIN:STANDARD
TZOFFSETFROM:+0000
TZOFFSETTO:+0000
TZNAME:UTC
DTSTART:20240101T000000
END:STANDARD
END:VTIMEZONE
BEGIN:VEVENT
DTSTART;TZID=UTC:20250510T140000
DTEND;TZID=UTC:20250510T150000
DTSTAMP:20260420T182425
CREATED:20250510T105901Z
LAST-MODIFIED:20250510T110138Z
UID:10001187-1746885600-1746889200@slheatons.org
SUMMARY:Water Workshop at Marbury Road Edible Garden
DESCRIPTION:Sustainable Living in the Heatons is delighted to be collaborating with Marbury Road Edible Garden on this exciting project!
URL:https://slheatons.org/event/water-workshop-at-marbury-road-edible-garden/
LOCATION:Marbury Road Edible Garden\, Nelstrop Road North\, Heaton Chapel\, SK45NH
CATEGORIES:Low Carbon Heatons,Meeting,Planting & Growing,Wild Heatons & Biodiversity
ATTACH;FMTTYPE=image/jpeg:https://slheatons.org/wp-content/uploads/2025/05/Marbbury-road.jpg
END:VEVENT
END:VCALENDAR