BEGIN:VCALENDAR
VERSION:2.0
PRODID:-//Sustainable Living in the Heatons - ECPv6.15.17.1//NONSGML v1.0//EN
CALSCALE:GREGORIAN
METHOD:PUBLISH
X-ORIGINAL-URL:https://slheatons.org
X-WR-CALDESC:Events for Sustainable Living in the Heatons
REFRESH-INTERVAL;VALUE=DURATION:PT1H
X-Robots-Tag:noindex
X-PUBLISHED-TTL:PT1H
BEGIN:VTIMEZONE
TZID:UTC
BEGIN:STANDARD
TZOFFSETFROM:+0000
TZOFFSETTO:+0000
TZNAME:UTC
DTSTART:20270101T000000
END:STANDARD
END:VTIMEZONE
BEGIN:VEVENT
DTSTART;TZID=UTC:20281224T100000
DTEND;TZID=UTC:20281224T130000
DTSTAMP:20260417T232857
CREATED:20251013T190033Z
LAST-MODIFIED:20260222T102956Z
UID:10001354-1861264800-1861275600@slheatons.org
SUMMARY:Hedge Maintenance
DESCRIPTION:Hedge maintenance session. We’ll be clearing the path running alongside this ancient hedge\, weeding around the hedge\, threading the branches and picking up litter. Come and join us to take part\, or have a chat about what we are doing. Wear sturdy shoes and long sleeves and bring gloves if you have them\, although we will come with equipment. \nWe usually have a break around 11am – tea\, coffee and biscuits will be provided! \nThe hedge is between Priestnall allotments and the recreation field\, on the lane that links Trentham Avenue (SK4 3QD) and Mersey Road. All welcome.
URL:https://slheatons.org/event/hedge-maintenance-2-2-2/2028-12-24/
LOCATION:Priestnall Allotments Hedge
CATEGORIES:Planting & Growing
ATTACH;FMTTYPE=image/jpeg:https://slheatons.org/wp-content/uploads/2023/03/Hedge-Maintenance.jpg
GEO:53.419567;-2.200235
END:VEVENT
BEGIN:VEVENT
DTSTART;TZID=UTC:20290325T100000
DTEND;TZID=UTC:20290325T130000
DTSTAMP:20260417T232857
CREATED:20251013T190033Z
LAST-MODIFIED:20260222T102956Z
UID:10001355-1869127200-1869138000@slheatons.org
SUMMARY:Hedge Maintenance
DESCRIPTION:Hedge maintenance session. We’ll be clearing the path running alongside this ancient hedge\, weeding around the hedge\, threading the branches and picking up litter. Come and join us to take part\, or have a chat about what we are doing. Wear sturdy shoes and long sleeves and bring gloves if you have them\, although we will come with equipment. \nWe usually have a break around 11am – tea\, coffee and biscuits will be provided! \nThe hedge is between Priestnall allotments and the recreation field\, on the lane that links Trentham Avenue (SK4 3QD) and Mersey Road. All welcome.
URL:https://slheatons.org/event/hedge-maintenance-2-2-2/2029-03-25/
LOCATION:Priestnall Allotments Hedge
CATEGORIES:Planting & Growing
ATTACH;FMTTYPE=image/jpeg:https://slheatons.org/wp-content/uploads/2023/03/Hedge-Maintenance.jpg
GEO:53.419567;-2.200235
END:VEVENT
BEGIN:VEVENT
DTSTART;TZID=UTC:20290624T100000
DTEND;TZID=UTC:20290624T130000
DTSTAMP:20260417T232857
CREATED:20251013T190033Z
LAST-MODIFIED:20260222T102956Z
UID:10001356-1876989600-1877000400@slheatons.org
SUMMARY:Hedge Maintenance
DESCRIPTION:Hedge maintenance session. We’ll be clearing the path running alongside this ancient hedge\, weeding around the hedge\, threading the branches and picking up litter. Come and join us to take part\, or have a chat about what we are doing. Wear sturdy shoes and long sleeves and bring gloves if you have them\, although we will come with equipment. \nWe usually have a break around 11am – tea\, coffee and biscuits will be provided! \nThe hedge is between Priestnall allotments and the recreation field\, on the lane that links Trentham Avenue (SK4 3QD) and Mersey Road. All welcome.
URL:https://slheatons.org/event/hedge-maintenance-2-2-2/2029-06-24/
LOCATION:Priestnall Allotments Hedge
CATEGORIES:Planting & Growing
ATTACH;FMTTYPE=image/jpeg:https://slheatons.org/wp-content/uploads/2023/03/Hedge-Maintenance.jpg
GEO:53.419567;-2.200235
END:VEVENT
BEGIN:VEVENT
DTSTART;TZID=UTC:20290923T100000
DTEND;TZID=UTC:20290923T130000
DTSTAMP:20260417T232857
CREATED:20251013T190033Z
LAST-MODIFIED:20260222T102956Z
UID:10001357-1884852000-1884862800@slheatons.org
SUMMARY:Hedge Maintenance
DESCRIPTION:Hedge maintenance session. We’ll be clearing the path running alongside this ancient hedge\, weeding around the hedge\, threading the branches and picking up litter. Come and join us to take part\, or have a chat about what we are doing. Wear sturdy shoes and long sleeves and bring gloves if you have them\, although we will come with equipment. \nWe usually have a break around 11am – tea\, coffee and biscuits will be provided! \nThe hedge is between Priestnall allotments and the recreation field\, on the lane that links Trentham Avenue (SK4 3QD) and Mersey Road. All welcome.
URL:https://slheatons.org/event/hedge-maintenance-2-2-2/2029-09-23/
LOCATION:Priestnall Allotments Hedge
CATEGORIES:Planting & Growing
ATTACH;FMTTYPE=image/jpeg:https://slheatons.org/wp-content/uploads/2023/03/Hedge-Maintenance.jpg
GEO:53.419567;-2.200235
END:VEVENT
BEGIN:VEVENT
DTSTART;TZID=UTC:20291223T100000
DTEND;TZID=UTC:20291223T130000
DTSTAMP:20260417T232857
CREATED:20251013T190033Z
LAST-MODIFIED:20260222T102956Z
UID:10001358-1892714400-1892725200@slheatons.org
SUMMARY:Hedge Maintenance
DESCRIPTION:Hedge maintenance session. We’ll be clearing the path running alongside this ancient hedge\, weeding around the hedge\, threading the branches and picking up litter. Come and join us to take part\, or have a chat about what we are doing. Wear sturdy shoes and long sleeves and bring gloves if you have them\, although we will come with equipment. \nWe usually have a break around 11am – tea\, coffee and biscuits will be provided! \nThe hedge is between Priestnall allotments and the recreation field\, on the lane that links Trentham Avenue (SK4 3QD) and Mersey Road. All welcome.
URL:https://slheatons.org/event/hedge-maintenance-2-2-2/2029-12-23/
LOCATION:Priestnall Allotments Hedge
CATEGORIES:Planting & Growing
ATTACH;FMTTYPE=image/jpeg:https://slheatons.org/wp-content/uploads/2023/03/Hedge-Maintenance.jpg
GEO:53.419567;-2.200235
END:VEVENT
BEGIN:VEVENT
DTSTART;TZID=UTC:20300324T100000
DTEND;TZID=UTC:20300324T130000
DTSTAMP:20260417T232857
CREATED:20251013T190033Z
LAST-MODIFIED:20260222T102956Z
UID:10001359-1900576800-1900587600@slheatons.org
SUMMARY:Hedge Maintenance
DESCRIPTION:Hedge maintenance session. We’ll be clearing the path running alongside this ancient hedge\, weeding around the hedge\, threading the branches and picking up litter. Come and join us to take part\, or have a chat about what we are doing. Wear sturdy shoes and long sleeves and bring gloves if you have them\, although we will come with equipment. \nWe usually have a break around 11am – tea\, coffee and biscuits will be provided! \nThe hedge is between Priestnall allotments and the recreation field\, on the lane that links Trentham Avenue (SK4 3QD) and Mersey Road. All welcome.
URL:https://slheatons.org/event/hedge-maintenance-2-2-2/2030-03-24/
LOCATION:Priestnall Allotments Hedge
CATEGORIES:Planting & Growing
ATTACH;FMTTYPE=image/jpeg:https://slheatons.org/wp-content/uploads/2023/03/Hedge-Maintenance.jpg
GEO:53.419567;-2.200235
END:VEVENT
BEGIN:VEVENT
DTSTART;TZID=UTC:20300623T100000
DTEND;TZID=UTC:20300623T130000
DTSTAMP:20260417T232857
CREATED:20251013T190033Z
LAST-MODIFIED:20260222T102956Z
UID:10001360-1908439200-1908450000@slheatons.org
SUMMARY:Hedge Maintenance
DESCRIPTION:Hedge maintenance session. We’ll be clearing the path running alongside this ancient hedge\, weeding around the hedge\, threading the branches and picking up litter. Come and join us to take part\, or have a chat about what we are doing. Wear sturdy shoes and long sleeves and bring gloves if you have them\, although we will come with equipment. \nWe usually have a break around 11am – tea\, coffee and biscuits will be provided! \nThe hedge is between Priestnall allotments and the recreation field\, on the lane that links Trentham Avenue (SK4 3QD) and Mersey Road. All welcome.
URL:https://slheatons.org/event/hedge-maintenance-2-2-2/2030-06-23/
LOCATION:Priestnall Allotments Hedge
CATEGORIES:Planting & Growing
ATTACH;FMTTYPE=image/jpeg:https://slheatons.org/wp-content/uploads/2023/03/Hedge-Maintenance.jpg
GEO:53.419567;-2.200235
END:VEVENT
BEGIN:VEVENT
DTSTART;TZID=UTC:20300922T100000
DTEND;TZID=UTC:20300922T130000
DTSTAMP:20260417T232857
CREATED:20251013T190033Z
LAST-MODIFIED:20260222T102956Z
UID:10001361-1916301600-1916312400@slheatons.org
SUMMARY:Hedge Maintenance
DESCRIPTION:Hedge maintenance session. We’ll be clearing the path running alongside this ancient hedge\, weeding around the hedge\, threading the branches and picking up litter. Come and join us to take part\, or have a chat about what we are doing. Wear sturdy shoes and long sleeves and bring gloves if you have them\, although we will come with equipment. \nWe usually have a break around 11am – tea\, coffee and biscuits will be provided! \nThe hedge is between Priestnall allotments and the recreation field\, on the lane that links Trentham Avenue (SK4 3QD) and Mersey Road. All welcome.
URL:https://slheatons.org/event/hedge-maintenance-2-2-2/2030-09-22/
LOCATION:Priestnall Allotments Hedge
CATEGORIES:Planting & Growing
ATTACH;FMTTYPE=image/jpeg:https://slheatons.org/wp-content/uploads/2023/03/Hedge-Maintenance.jpg
GEO:53.419567;-2.200235
END:VEVENT
BEGIN:VEVENT
DTSTART;TZID=UTC:20301222T100000
DTEND;TZID=UTC:20301222T130000
DTSTAMP:20260417T232857
CREATED:20251013T190033Z
LAST-MODIFIED:20260222T102956Z
UID:10001362-1924164000-1924174800@slheatons.org
SUMMARY:Hedge Maintenance
DESCRIPTION:Hedge maintenance session. We’ll be clearing the path running alongside this ancient hedge\, weeding around the hedge\, threading the branches and picking up litter. Come and join us to take part\, or have a chat about what we are doing. Wear sturdy shoes and long sleeves and bring gloves if you have them\, although we will come with equipment. \nWe usually have a break around 11am – tea\, coffee and biscuits will be provided! \nThe hedge is between Priestnall allotments and the recreation field\, on the lane that links Trentham Avenue (SK4 3QD) and Mersey Road. All welcome.
URL:https://slheatons.org/event/hedge-maintenance-2-2-2/2030-12-22/
LOCATION:Priestnall Allotments Hedge
CATEGORIES:Planting & Growing
ATTACH;FMTTYPE=image/jpeg:https://slheatons.org/wp-content/uploads/2023/03/Hedge-Maintenance.jpg
GEO:53.419567;-2.200235
END:VEVENT
END:VCALENDAR